BEGIN:VCALENDAR
VERSION:2.0
PRODID:-//Knox County Master Gardener - ECPv6.15.20//NONSGML v1.0//EN
CALSCALE:GREGORIAN
METHOD:PUBLISH
X-WR-CALNAME:Knox County Master Gardener
X-ORIGINAL-URL:https://www.knoxcountymastergardener.org
X-WR-CALDESC:Events for Knox County Master Gardener
REFRESH-INTERVAL;VALUE=DURATION:PT1H
X-Robots-Tag:noindex
X-PUBLISHED-TTL:PT1H
BEGIN:VTIMEZONE
TZID:America/New_York
BEGIN:DAYLIGHT
TZOFFSETFROM:-0500
TZOFFSETTO:-0400
TZNAME:EDT
DTSTART:20240310T070000
END:DAYLIGHT
BEGIN:STANDARD
TZOFFSETFROM:-0400
TZOFFSETTO:-0500
TZNAME:EST
DTSTART:20241103T060000
END:STANDARD
BEGIN:DAYLIGHT
TZOFFSETFROM:-0500
TZOFFSETTO:-0400
TZNAME:EDT
DTSTART:20250309T070000
END:DAYLIGHT
BEGIN:STANDARD
TZOFFSETFROM:-0400
TZOFFSETTO:-0500
TZNAME:EST
DTSTART:20251102T060000
END:STANDARD
BEGIN:DAYLIGHT
TZOFFSETFROM:-0500
TZOFFSETTO:-0400
TZNAME:EDT
DTSTART:20260308T070000
END:DAYLIGHT
BEGIN:STANDARD
TZOFFSETFROM:-0400
TZOFFSETTO:-0500
TZNAME:EST
DTSTART:20261101T060000
END:STANDARD
END:VTIMEZONE
BEGIN:VEVENT
DTSTART;TZID=America/New_York:20250606T170000
DTEND;TZID=America/New_York:20250606T190000
DTSTAMP:20260424T102255
CREATED:20250326T190750Z
LAST-MODIFIED:20250608T155039Z
UID:10002190-1749229200-1749236400@www.knoxcountymastergardener.org
SUMMARY:Beardsley Art Gala
DESCRIPTION:CAC Beardsley Community Farm\nART GALA\nBeardsley Farm has a free first Friday art show featuring art (with themes of nature and plants) displayed in the gardens. We’re searching for artists and art\, and of course would also love if you would join us at the event for a wonderful evening. \nFind additional information at our web page: Beardsleyfarm.org
URL:https://www.knoxcountymastergardener.org/event/beardsley-art-gala/
LOCATION:Beardsley Farm\, 1741 Reynolds St.\, Knoxville\, TN\, 37921\, United States
CATEGORIES:Beardsley Community Farm,Non MG Sponsored Event
ATTACH;FMTTYPE=image/png:https://www.knoxcountymastergardener.org/wp-content/uploads/2025/03/ARTISTS-for-2025-Garden-art-Gala-e1743015953688.png
END:VEVENT
END:VCALENDAR