BEGIN:VCALENDAR
VERSION:2.0
PRODID:-//Knox County Master Gardener - ECPv6.15.20//NONSGML v1.0//EN
CALSCALE:GREGORIAN
METHOD:PUBLISH
X-WR-CALNAME:Knox County Master Gardener
X-ORIGINAL-URL:https://www.knoxcountymastergardener.org
X-WR-CALDESC:Events for Knox County Master Gardener
REFRESH-INTERVAL;VALUE=DURATION:PT1H
X-Robots-Tag:noindex
X-PUBLISHED-TTL:PT1H
BEGIN:VTIMEZONE
TZID:America/New_York
BEGIN:DAYLIGHT
TZOFFSETFROM:-0500
TZOFFSETTO:-0400
TZNAME:EDT
DTSTART:20240310T070000
END:DAYLIGHT
BEGIN:STANDARD
TZOFFSETFROM:-0400
TZOFFSETTO:-0500
TZNAME:EST
DTSTART:20241103T060000
END:STANDARD
BEGIN:DAYLIGHT
TZOFFSETFROM:-0500
TZOFFSETTO:-0400
TZNAME:EDT
DTSTART:20250309T070000
END:DAYLIGHT
BEGIN:STANDARD
TZOFFSETFROM:-0400
TZOFFSETTO:-0500
TZNAME:EST
DTSTART:20251102T060000
END:STANDARD
BEGIN:DAYLIGHT
TZOFFSETFROM:-0500
TZOFFSETTO:-0400
TZNAME:EDT
DTSTART:20260308T070000
END:DAYLIGHT
BEGIN:STANDARD
TZOFFSETFROM:-0400
TZOFFSETTO:-0500
TZNAME:EST
DTSTART:20261101T060000
END:STANDARD
END:VTIMEZONE
BEGIN:VEVENT
DTSTART;VALUE=DATE:20250612
DTEND;VALUE=DATE:20250613
DTSTAMP:20260424T045716
CREATED:20250215T181217Z
LAST-MODIFIED:20250215T181217Z
UID:10002123-1749686400-1749772799@www.knoxcountymastergardener.org
SUMMARY:TEMG Western Region Tour
DESCRIPTION:Western Region TEMG Horticulture and Outreach Tour\nJune 12\, 2025 \nHold the date. Details when available. https://mastergardener.tennessee.edu/
URL:https://www.knoxcountymastergardener.org/event/temg-western-region-tour/
LOCATION:TN
CATEGORIES:TEMG
END:VEVENT
BEGIN:VEVENT
DTSTART;TZID=America/New_York:20250612T103000
DTEND;TZID=America/New_York:20250612T233000
DTSTAMP:20260424T045716
CREATED:20250223T224357Z
LAST-MODIFIED:20250613T163014Z
UID:10002167-1749724200-1749771000@www.knoxcountymastergardener.org
SUMMARY:SB-Turf Talk
DESCRIPTION:Speakers Bureau Public Talk\nLet’s Talk Turf\nJoin Knox County Master Gardener Roger Denny for an informative discussion of research-based methods. \nFree and open to the public. \nAnd here if a video of the live class if you missed it…LINK \nphoto by Gerry Kahrmann
URL:https://www.knoxcountymastergardener.org/event/sb-public-talk-2/
LOCATION:UT Extension Eastern Region Office\, 1801 Downtown W Blvd\, Knoxville\, TN\, 37919\, United States
CATEGORIES:Public Educational Events
ATTACH;FMTTYPE=image/jpeg:https://www.knoxcountymastergardener.org/wp-content/uploads/2025/02/LAWN1-e1747481949431.jpg
END:VEVENT
END:VCALENDAR