BEGIN:VCALENDAR
VERSION:2.0
PRODID:-//Knox County Master Gardener - ECPv6.15.20//NONSGML v1.0//EN
CALSCALE:GREGORIAN
METHOD:PUBLISH
X-ORIGINAL-URL:https://www.knoxcountymastergardener.org
X-WR-CALDESC:Events for Knox County Master Gardener
REFRESH-INTERVAL;VALUE=DURATION:PT1H
X-Robots-Tag:noindex
X-PUBLISHED-TTL:PT1H
BEGIN:VTIMEZONE
TZID:America/New_York
BEGIN:DAYLIGHT
TZOFFSETFROM:-0500
TZOFFSETTO:-0400
TZNAME:EDT
DTSTART:20240310T070000
END:DAYLIGHT
BEGIN:STANDARD
TZOFFSETFROM:-0400
TZOFFSETTO:-0500
TZNAME:EST
DTSTART:20241103T060000
END:STANDARD
BEGIN:DAYLIGHT
TZOFFSETFROM:-0500
TZOFFSETTO:-0400
TZNAME:EDT
DTSTART:20250309T070000
END:DAYLIGHT
BEGIN:STANDARD
TZOFFSETFROM:-0400
TZOFFSETTO:-0500
TZNAME:EST
DTSTART:20251102T060000
END:STANDARD
BEGIN:DAYLIGHT
TZOFFSETFROM:-0500
TZOFFSETTO:-0400
TZNAME:EDT
DTSTART:20260308T070000
END:DAYLIGHT
BEGIN:STANDARD
TZOFFSETFROM:-0400
TZOFFSETTO:-0500
TZNAME:EST
DTSTART:20261101T060000
END:STANDARD
END:VTIMEZONE
BEGIN:VEVENT
DTSTART;TZID=America/New_York:20250809T100000
DTEND;TZID=America/New_York:20250809T120000
DTSTAMP:20260423T143045
CREATED:20250731T164714Z
LAST-MODIFIED:20250731T165850Z
UID:10002257-1754733600-1754740800@www.knoxcountymastergardener.org
SUMMARY:Perennials @  KBGA
DESCRIPTION:Perennial Plant Care Class at\nKnoxville Botanical Garden and Arboretum\nSaturday\, August 9\, 2025 @ 10am-noon\nMeet at the Visitors Center\n2743 Wimpole Ave\, Knoxville\, TN 37914\n\nLearn about perennial care\, including planting\, pruning\, dividing and mulching.\nDetails and registration at knoxgarden.org
URL:https://www.knoxcountymastergardener.org/event/perennials-kbga/
LOCATION:Knoxville Botanical Garden and Arboretum\, 2743 Wimpole Avenue\, Knoxville\, 37914\, United States
CATEGORIES:Public Educational Events
ATTACH;FMTTYPE=image/jpeg:https://www.knoxcountymastergardener.org/wp-content/uploads/2025/03/KBGA-Sign-scaled-e1742908234436.jpg
END:VEVENT
BEGIN:VEVENT
DTSTART;TZID=America/New_York:20250809T113000
DTEND;TZID=America/New_York:20250809T143000
DTSTAMP:20260423T143045
CREATED:20250603T160346Z
LAST-MODIFIED:20250719T112459Z
UID:10002231-1754739000-1754749800@www.knoxcountymastergardener.org
SUMMARY:Garden Classroom
DESCRIPTION:KCMG Garden Classroom\nBasic Principles of Gardening\nThe class suitable for new gardeners as well as those wanting a refresher with research-based information. The Plan/Prep\, Plant/Pamper\, and Problems/Pest information will include special emphasis on native plants. \nThe class will be Saturday\, August 9\, 2025 at South Knoxville Community Center\, 522 Maryville Pike\, Knoxville TN from 11:30 AM to 2:30 PM. \nLight refreshments and drinks provided. A raffle will be held at the end of class. \nFree and open to the public. Seats are limited to 25 on a first to register basis. A minimum of 10 registrants is needed for the class to take place. \nRegistration is required: Please email classroom@knoxcountymastergardener.org if you would like to attend.
URL:https://www.knoxcountymastergardener.org/event/basic-principles-of-gardening-3/
LOCATION:South Knoxville Community Center\, 522 Maryville Pike\, Knoxville\, 37920\, United States
CATEGORIES:Public Educational Events
ATTACH;FMTTYPE=image/jpeg:https://www.knoxcountymastergardener.org/wp-content/uploads/2025/04/KCMGgardenclassrom2-scaled-e1744715540320.jpg
END:VEVENT
END:VCALENDAR