BEGIN:VCALENDAR
VERSION:2.0
PRODID:-//Knox County Master Gardener - ECPv6.15.20//NONSGML v1.0//EN
CALSCALE:GREGORIAN
METHOD:PUBLISH
X-WR-CALNAME:Knox County Master Gardener
X-ORIGINAL-URL:https://www.knoxcountymastergardener.org
X-WR-CALDESC:Events for Knox County Master Gardener
REFRESH-INTERVAL;VALUE=DURATION:PT1H
X-Robots-Tag:noindex
X-PUBLISHED-TTL:PT1H
BEGIN:VTIMEZONE
TZID:America/New_York
BEGIN:DAYLIGHT
TZOFFSETFROM:-0500
TZOFFSETTO:-0400
TZNAME:EDT
DTSTART:20250309T070000
END:DAYLIGHT
BEGIN:STANDARD
TZOFFSETFROM:-0400
TZOFFSETTO:-0500
TZNAME:EST
DTSTART:20251102T060000
END:STANDARD
BEGIN:DAYLIGHT
TZOFFSETFROM:-0500
TZOFFSETTO:-0400
TZNAME:EDT
DTSTART:20260308T070000
END:DAYLIGHT
BEGIN:STANDARD
TZOFFSETFROM:-0400
TZOFFSETTO:-0500
TZNAME:EST
DTSTART:20261101T060000
END:STANDARD
BEGIN:DAYLIGHT
TZOFFSETFROM:-0500
TZOFFSETTO:-0400
TZNAME:EDT
DTSTART:20270314T070000
END:DAYLIGHT
BEGIN:STANDARD
TZOFFSETFROM:-0400
TZOFFSETTO:-0500
TZNAME:EST
DTSTART:20271107T060000
END:STANDARD
END:VTIMEZONE
BEGIN:VEVENT
DTSTART;VALUE=DATE:20260620
DTEND;VALUE=DATE:20260621
DTSTAMP:20260423T141301
CREATED:20260423T151116Z
LAST-MODIFIED:20260423T153244Z
UID:10003974-1781913600-1781999999@www.knoxcountymastergardener.org
SUMMARY:Guided Walk @ Collier
DESCRIPTION:Guided Walk at Collier\nSaturday June 20 @ 9:00\nTake a 1/2 mile walk in the woods with a Master gardener! Meet at the Powell Branch Library next door where there is plenty of parking. \n  \n\n							\n 
URL:https://www.knoxcountymastergardener.org/event/guided-walk-collier-11/
LOCATION:Collier Preserve\, 316 W Emory Rd\, Powell\, TN\, 37849\, United States
CATEGORIES:Collier Preserve,Public Educational Events,Volunteer Opportunity Event
ATTACH;FMTTYPE=image/jpeg:https://www.knoxcountymastergardener.org/wp-content/uploads/2026/04/Ellen-at-Kiosk-scaled.jpg
END:VEVENT
BEGIN:VEVENT
DTSTART;VALUE=DATE:20260620
DTEND;VALUE=DATE:20260621
DTSTAMP:20260423T141301
CREATED:20260423T141251Z
LAST-MODIFIED:20260423T141251Z
UID:10003950-1781913600-1781999999@www.knoxcountymastergardener.org
SUMMARY:KCMG @ Dixie Lee FM
DESCRIPTION:KCMG Ask a Master Gardener Table \nat Dixie Lee Farmers Market \nSaturdays\, April – October\, 9am – 12pm \nA team of gardeners will be available to answer your gardening questions and discuss gardening topics of interest. Please stop by and join us for a chat. \nLINK
URL:https://www.knoxcountymastergardener.org/event/kcmg-dixie-lee-fm/2026-06-20/
LOCATION:Dixie Lee Farmers Market\, 12740 Kingston Pike\, Knoxville\, 37934\, United States
CATEGORIES:AMG,Public Educational Events,Volunteer Opportunity Event
ATTACH;FMTTYPE=image/jpeg:https://www.knoxcountymastergardener.org/wp-content/uploads/2026/03/AMG_Brian-scaled.jpg
END:VEVENT
END:VCALENDAR