BEGIN:VCALENDAR
VERSION:2.0
PRODID:-//Knox County Master Gardener - ECPv6.15.20//NONSGML v1.0//EN
CALSCALE:GREGORIAN
METHOD:PUBLISH
X-WR-CALNAME:Knox County Master Gardener
X-ORIGINAL-URL:https://www.knoxcountymastergardener.org
X-WR-CALDESC:Events for Knox County Master Gardener
REFRESH-INTERVAL;VALUE=DURATION:PT1H
X-Robots-Tag:noindex
X-PUBLISHED-TTL:PT1H
BEGIN:VTIMEZONE
TZID:America/New_York
BEGIN:DAYLIGHT
TZOFFSETFROM:-0500
TZOFFSETTO:-0400
TZNAME:EDT
DTSTART:20250309T070000
END:DAYLIGHT
BEGIN:STANDARD
TZOFFSETFROM:-0400
TZOFFSETTO:-0500
TZNAME:EST
DTSTART:20251102T060000
END:STANDARD
BEGIN:DAYLIGHT
TZOFFSETFROM:-0500
TZOFFSETTO:-0400
TZNAME:EDT
DTSTART:20260308T070000
END:DAYLIGHT
BEGIN:STANDARD
TZOFFSETFROM:-0400
TZOFFSETTO:-0500
TZNAME:EST
DTSTART:20261101T060000
END:STANDARD
BEGIN:DAYLIGHT
TZOFFSETFROM:-0500
TZOFFSETTO:-0400
TZNAME:EDT
DTSTART:20270314T070000
END:DAYLIGHT
BEGIN:STANDARD
TZOFFSETFROM:-0400
TZOFFSETTO:-0500
TZNAME:EST
DTSTART:20271107T060000
END:STANDARD
END:VTIMEZONE
BEGIN:VEVENT
DTSTART;TZID=America/New_York:20260927T170000
DTEND;TZID=America/New_York:20260927T210000
DTSTAMP:20260422T070121
CREATED:20260226T210154Z
LAST-MODIFIED:20260226T210154Z
UID:10003627-1790528400-1790542800@www.knoxcountymastergardener.org
SUMMARY:Gala @  KBGA
DESCRIPTION:Green Thumb Gala at\nKnoxville Botanical Garden and Arboretum\nSunday\, September 27\, 2026 @ 5-9pm\n\nKnoxville Botanical Garden and Arboretum\n2743 Wimpole Dr\, Knoxville\, TN\, 37914\n\n\n\nThe Garden’s largest annual fundraiser\, Green Thumb Gala\, celebrates the Garden’s accomplishments and brings together supporters for an evening of music\, food\, silent and live auctions.\n\nVisit knoxgarden.org/events for details and tickets.
URL:https://www.knoxcountymastergardener.org/event/gala-kbga-2/
LOCATION:Knoxville Botanical Garden and Arboretum\, 2743 Wimpole Avenue\, Knoxville\, 37914\, United States
CATEGORIES:Outside Events
ATTACH;FMTTYPE=image/png:https://www.knoxcountymastergardener.org/wp-content/uploads/2025/08/KBGA-gala-e1755304374506.png
END:VEVENT
END:VCALENDAR