BEGIN:VCALENDAR
VERSION:2.0
PRODID:-//Knox County Master Gardener - ECPv6.15.20//NONSGML v1.0//EN
CALSCALE:GREGORIAN
METHOD:PUBLISH
X-ORIGINAL-URL:https://www.knoxcountymastergardener.org
X-WR-CALDESC:Events for Knox County Master Gardener
REFRESH-INTERVAL;VALUE=DURATION:PT1H
X-Robots-Tag:noindex
X-PUBLISHED-TTL:PT1H
BEGIN:VTIMEZONE
TZID:America/New_York
BEGIN:DAYLIGHT
TZOFFSETFROM:-0500
TZOFFSETTO:-0400
TZNAME:EDT
DTSTART:20250309T070000
END:DAYLIGHT
BEGIN:STANDARD
TZOFFSETFROM:-0400
TZOFFSETTO:-0500
TZNAME:EST
DTSTART:20251102T060000
END:STANDARD
BEGIN:DAYLIGHT
TZOFFSETFROM:-0500
TZOFFSETTO:-0400
TZNAME:EDT
DTSTART:20260308T070000
END:DAYLIGHT
BEGIN:STANDARD
TZOFFSETFROM:-0400
TZOFFSETTO:-0500
TZNAME:EST
DTSTART:20261101T060000
END:STANDARD
BEGIN:DAYLIGHT
TZOFFSETFROM:-0500
TZOFFSETTO:-0400
TZNAME:EDT
DTSTART:20270314T070000
END:DAYLIGHT
BEGIN:STANDARD
TZOFFSETFROM:-0400
TZOFFSETTO:-0500
TZNAME:EST
DTSTART:20271107T060000
END:STANDARD
END:VTIMEZONE
BEGIN:VEVENT
DTSTART;VALUE=DATE:20260530
DTEND;VALUE=DATE:20260531
DTSTAMP:20260423T115400
CREATED:20260423T141251Z
LAST-MODIFIED:20260423T141251Z
UID:10003947-1780099200-1780185599@www.knoxcountymastergardener.org
SUMMARY:KCMG @ Dixie Lee FM
DESCRIPTION:KCMG Ask a Master Gardener Table \nat Dixie Lee Farmers Market \nSaturdays\, April – October\, 9am – 12pm \nA team of gardeners will be available to answer your gardening questions and discuss gardening topics of interest. Please stop by and join us for a chat. \nLINK
URL:https://www.knoxcountymastergardener.org/event/kcmg-dixie-lee-fm/2026-05-30/
LOCATION:Dixie Lee Farmers Market\, 12740 Kingston Pike\, Knoxville\, 37934\, United States
CATEGORIES:AMG,Public Educational Events,Volunteer Opportunity Event
ATTACH;FMTTYPE=image/jpeg:https://www.knoxcountymastergardener.org/wp-content/uploads/2026/03/AMG_Brian-scaled.jpg
END:VEVENT
BEGIN:VEVENT
DTSTART;VALUE=DATE:20260530
DTEND;VALUE=DATE:20260531
DTSTAMP:20260423T115400
CREATED:20260405T192504Z
LAST-MODIFIED:20260423T144126Z
UID:10003972-1780128000-1780160400@www.knoxcountymastergardener.org
SUMMARY:Plant Clinic @ Burlington
DESCRIPTION:Ask a Master Gardener Plant Clinic Table\nBurlington Branch Library\n\nSaturday\, April 25\, 2026\, 1pm to 3pm \nSaturday\, May 30\, 2026\, 1pm to 3pm \nA team of Knox County Master Gardeners will be available to answer your gardening questions and discuss gardening topics of interest. Please stop by and join us for a chat.
URL:https://www.knoxcountymastergardener.org/event/plant-clinic-burlington/2026-05-30/
LOCATION:Burlington Branch Library\, 4614 Ashville Highway\, Knoxville\, 37914\, United States
CATEGORIES:AMG,Public Educational Events,Volunteer Opportunity Event
ATTACH;FMTTYPE=image/png:https://www.knoxcountymastergardener.org/wp-content/uploads/2026/03/Clinic_Norwood-e1774983645995.png
END:VEVENT
BEGIN:VEVENT
DTSTART;VALUE=DATE:20260602
DTEND;VALUE=DATE:20260603
DTSTAMP:20260423T115400
CREATED:20260331T195947Z
LAST-MODIFIED:20260421T214103Z
UID:10003793-1780358400-1780444799@www.knoxcountymastergardener.org
SUMMARY:KCMG @ Pavilion FM
DESCRIPTION:KCMG Ask a Master Gardener Table \nat Pavilion Farmers Market \nTuesdays\, May – November\, 4pm – 7pm \nA team of gardeners will be available to answer your gardening questions and discuss gardening topics of interest. Please stop by and join us for a chat. \nLINK
URL:https://www.knoxcountymastergardener.org/event/kcmg-pavilion-fm-2/2026-06-02/
LOCATION:Harden Valley Event Center\, 2620 Willow Point Way\, Knoxville\, TN\, 37931\, United States
CATEGORIES:AMG,Public Educational Events,Volunteer Opportunity Event
ATTACH;FMTTYPE=image/jpeg:https://www.knoxcountymastergardener.org/wp-content/uploads/2026/03/AMG_Brian-scaled.jpg
END:VEVENT
BEGIN:VEVENT
DTSTART;VALUE=DATE:20260603
DTEND;VALUE=DATE:20260604
DTSTAMP:20260423T115400
CREATED:20260321T200422Z
LAST-MODIFIED:20260421T212808Z
UID:10003731-1780444800-1780531199@www.knoxcountymastergardener.org
SUMMARY:KCMG @ Tellico FM
DESCRIPTION:KCMG Ask a Master Gardener Table at Tellico Village Farmers Market\nEvery Wednesday morning\, April-October 2026\nA team of gardeners will be available to answer your gardening questions and discuss gardening topics of interest. Please stop by and join us for a chat.
URL:https://www.knoxcountymastergardener.org/event/kcmg-tellico-fm/2026-06-03/
LOCATION:Tellico Community Center\, 202 Chota Rd\, Louden\, 37774\, United States
CATEGORIES:AMG,Public Educational Events,Volunteer Opportunity Event
ATTACH;FMTTYPE=image/jpeg:https://www.knoxcountymastergardener.org/wp-content/uploads/2026/03/AMG_Brian-scaled.jpg
END:VEVENT
BEGIN:VEVENT
DTSTART;VALUE=DATE:20260606
DTEND;VALUE=DATE:20260607
DTSTAMP:20260423T115400
CREATED:20260423T141251Z
LAST-MODIFIED:20260423T141251Z
UID:10003948-1780704000-1780790399@www.knoxcountymastergardener.org
SUMMARY:KCMG @ Dixie Lee FM
DESCRIPTION:KCMG Ask a Master Gardener Table \nat Dixie Lee Farmers Market \nSaturdays\, April – October\, 9am – 12pm \nA team of gardeners will be available to answer your gardening questions and discuss gardening topics of interest. Please stop by and join us for a chat. \nLINK
URL:https://www.knoxcountymastergardener.org/event/kcmg-dixie-lee-fm/2026-06-06/
LOCATION:Dixie Lee Farmers Market\, 12740 Kingston Pike\, Knoxville\, 37934\, United States
CATEGORIES:AMG,Public Educational Events,Volunteer Opportunity Event
ATTACH;FMTTYPE=image/jpeg:https://www.knoxcountymastergardener.org/wp-content/uploads/2026/03/AMG_Brian-scaled.jpg
END:VEVENT
BEGIN:VEVENT
DTSTART;VALUE=DATE:20260609
DTEND;VALUE=DATE:20260610
DTSTAMP:20260423T115400
CREATED:20260331T195947Z
LAST-MODIFIED:20260421T214103Z
UID:10003795-1780963200-1781049599@www.knoxcountymastergardener.org
SUMMARY:KCMG @ Pavilion FM
DESCRIPTION:KCMG Ask a Master Gardener Table \nat Pavilion Farmers Market \nTuesdays\, May – November\, 4pm – 7pm \nA team of gardeners will be available to answer your gardening questions and discuss gardening topics of interest. Please stop by and join us for a chat. \nLINK
URL:https://www.knoxcountymastergardener.org/event/kcmg-pavilion-fm-2/2026-06-09/
LOCATION:Harden Valley Event Center\, 2620 Willow Point Way\, Knoxville\, TN\, 37931\, United States
CATEGORIES:AMG,Public Educational Events,Volunteer Opportunity Event
ATTACH;FMTTYPE=image/jpeg:https://www.knoxcountymastergardener.org/wp-content/uploads/2026/03/AMG_Brian-scaled.jpg
END:VEVENT
BEGIN:VEVENT
DTSTART;VALUE=DATE:20260610
DTEND;VALUE=DATE:20260611
DTSTAMP:20260423T115400
CREATED:20260321T200422Z
LAST-MODIFIED:20260421T212808Z
UID:10003732-1781049600-1781135999@www.knoxcountymastergardener.org
SUMMARY:KCMG @ Tellico FM
DESCRIPTION:KCMG Ask a Master Gardener Table at Tellico Village Farmers Market\nEvery Wednesday morning\, April-October 2026\nA team of gardeners will be available to answer your gardening questions and discuss gardening topics of interest. Please stop by and join us for a chat.
URL:https://www.knoxcountymastergardener.org/event/kcmg-tellico-fm/2026-06-10/
LOCATION:Tellico Community Center\, 202 Chota Rd\, Louden\, 37774\, United States
CATEGORIES:AMG,Public Educational Events,Volunteer Opportunity Event
ATTACH;FMTTYPE=image/jpeg:https://www.knoxcountymastergardener.org/wp-content/uploads/2026/03/AMG_Brian-scaled.jpg
END:VEVENT
BEGIN:VEVENT
DTSTART;VALUE=DATE:20260613
DTEND;VALUE=DATE:20260614
DTSTAMP:20260423T115400
CREATED:20260423T141251Z
LAST-MODIFIED:20260423T141251Z
UID:10003949-1781308800-1781395199@www.knoxcountymastergardener.org
SUMMARY:KCMG @ Dixie Lee FM
DESCRIPTION:KCMG Ask a Master Gardener Table \nat Dixie Lee Farmers Market \nSaturdays\, April – October\, 9am – 12pm \nA team of gardeners will be available to answer your gardening questions and discuss gardening topics of interest. Please stop by and join us for a chat. \nLINK
URL:https://www.knoxcountymastergardener.org/event/kcmg-dixie-lee-fm/2026-06-13/
LOCATION:Dixie Lee Farmers Market\, 12740 Kingston Pike\, Knoxville\, 37934\, United States
CATEGORIES:AMG,Public Educational Events,Volunteer Opportunity Event
ATTACH;FMTTYPE=image/jpeg:https://www.knoxcountymastergardener.org/wp-content/uploads/2026/03/AMG_Brian-scaled.jpg
END:VEVENT
BEGIN:VEVENT
DTSTART;VALUE=DATE:20260616
DTEND;VALUE=DATE:20260617
DTSTAMP:20260423T115400
CREATED:20260331T194409Z
LAST-MODIFIED:20260421T214412Z
UID:10003768-1781568000-1781654399@www.knoxcountymastergardener.org
SUMMARY:KCMG @ Ebenezer FM
DESCRIPTION:KCMG Ask a Master Gardener Table\nEbenezer Road Farmers Market\nEvery Third Tuesday afternoon \nApril – October\, 3pm – 6pm \nNovember 17th\, 2pm – 5pm \nA team of gardeners will be available to answer your gardening questions and discuss gardening topics of interest. Please stop by and join us for a chat.
URL:https://www.knoxcountymastergardener.org/event/kcmg-ebenezer-fm-3/2026-06-16/
LOCATION:Ebenezer United Methodist Church\, 1001 Ebenezer Rd\, Knoxville\, TN\, 37923\, United States
CATEGORIES:AMG,Public Educational Events,Volunteer Opportunity Event
ATTACH;FMTTYPE=image/jpeg:https://www.knoxcountymastergardener.org/wp-content/uploads/2024/10/IMG_6722-e1729892048201-scaled.jpeg
END:VEVENT
BEGIN:VEVENT
DTSTART;VALUE=DATE:20260616
DTEND;VALUE=DATE:20260617
DTSTAMP:20260423T115400
CREATED:20260331T195947Z
LAST-MODIFIED:20260421T214103Z
UID:10003797-1781568000-1781654399@www.knoxcountymastergardener.org
SUMMARY:KCMG @ Pavilion FM
DESCRIPTION:KCMG Ask a Master Gardener Table \nat Pavilion Farmers Market \nTuesdays\, May – November\, 4pm – 7pm \nA team of gardeners will be available to answer your gardening questions and discuss gardening topics of interest. Please stop by and join us for a chat. \nLINK
URL:https://www.knoxcountymastergardener.org/event/kcmg-pavilion-fm-2/2026-06-16/
LOCATION:Harden Valley Event Center\, 2620 Willow Point Way\, Knoxville\, TN\, 37931\, United States
CATEGORIES:AMG,Public Educational Events,Volunteer Opportunity Event
ATTACH;FMTTYPE=image/jpeg:https://www.knoxcountymastergardener.org/wp-content/uploads/2026/03/AMG_Brian-scaled.jpg
END:VEVENT
BEGIN:VEVENT
DTSTART;VALUE=DATE:20260617
DTEND;VALUE=DATE:20260618
DTSTAMP:20260423T115400
CREATED:20260321T200422Z
LAST-MODIFIED:20260421T212808Z
UID:10003733-1781654400-1781740799@www.knoxcountymastergardener.org
SUMMARY:KCMG @ Tellico FM
DESCRIPTION:KCMG Ask a Master Gardener Table at Tellico Village Farmers Market\nEvery Wednesday morning\, April-October 2026\nA team of gardeners will be available to answer your gardening questions and discuss gardening topics of interest. Please stop by and join us for a chat.
URL:https://www.knoxcountymastergardener.org/event/kcmg-tellico-fm/2026-06-17/
LOCATION:Tellico Community Center\, 202 Chota Rd\, Louden\, 37774\, United States
CATEGORIES:AMG,Public Educational Events,Volunteer Opportunity Event
ATTACH;FMTTYPE=image/jpeg:https://www.knoxcountymastergardener.org/wp-content/uploads/2026/03/AMG_Brian-scaled.jpg
END:VEVENT
BEGIN:VEVENT
DTSTART;VALUE=DATE:20260620
DTEND;VALUE=DATE:20260621
DTSTAMP:20260423T115400
CREATED:20260423T141251Z
LAST-MODIFIED:20260423T141251Z
UID:10003950-1781913600-1781999999@www.knoxcountymastergardener.org
SUMMARY:KCMG @ Dixie Lee FM
DESCRIPTION:KCMG Ask a Master Gardener Table \nat Dixie Lee Farmers Market \nSaturdays\, April – October\, 9am – 12pm \nA team of gardeners will be available to answer your gardening questions and discuss gardening topics of interest. Please stop by and join us for a chat. \nLINK
URL:https://www.knoxcountymastergardener.org/event/kcmg-dixie-lee-fm/2026-06-20/
LOCATION:Dixie Lee Farmers Market\, 12740 Kingston Pike\, Knoxville\, 37934\, United States
CATEGORIES:AMG,Public Educational Events,Volunteer Opportunity Event
ATTACH;FMTTYPE=image/jpeg:https://www.knoxcountymastergardener.org/wp-content/uploads/2026/03/AMG_Brian-scaled.jpg
END:VEVENT
BEGIN:VEVENT
DTSTART;VALUE=DATE:20260623
DTEND;VALUE=DATE:20260624
DTSTAMP:20260423T115400
CREATED:20260331T195947Z
LAST-MODIFIED:20260421T214103Z
UID:10003799-1782172800-1782259199@www.knoxcountymastergardener.org
SUMMARY:KCMG @ Pavilion FM
DESCRIPTION:KCMG Ask a Master Gardener Table \nat Pavilion Farmers Market \nTuesdays\, May – November\, 4pm – 7pm \nA team of gardeners will be available to answer your gardening questions and discuss gardening topics of interest. Please stop by and join us for a chat. \nLINK
URL:https://www.knoxcountymastergardener.org/event/kcmg-pavilion-fm-2/2026-06-23/
LOCATION:Harden Valley Event Center\, 2620 Willow Point Way\, Knoxville\, TN\, 37931\, United States
CATEGORIES:AMG,Public Educational Events,Volunteer Opportunity Event
ATTACH;FMTTYPE=image/jpeg:https://www.knoxcountymastergardener.org/wp-content/uploads/2026/03/AMG_Brian-scaled.jpg
END:VEVENT
BEGIN:VEVENT
DTSTART;VALUE=DATE:20260624
DTEND;VALUE=DATE:20260625
DTSTAMP:20260423T115400
CREATED:20260321T200422Z
LAST-MODIFIED:20260421T212808Z
UID:10003734-1782259200-1782345599@www.knoxcountymastergardener.org
SUMMARY:KCMG @ Tellico FM
DESCRIPTION:KCMG Ask a Master Gardener Table at Tellico Village Farmers Market\nEvery Wednesday morning\, April-October 2026\nA team of gardeners will be available to answer your gardening questions and discuss gardening topics of interest. Please stop by and join us for a chat.
URL:https://www.knoxcountymastergardener.org/event/kcmg-tellico-fm/2026-06-24/
LOCATION:Tellico Community Center\, 202 Chota Rd\, Louden\, 37774\, United States
CATEGORIES:AMG,Public Educational Events,Volunteer Opportunity Event
ATTACH;FMTTYPE=image/jpeg:https://www.knoxcountymastergardener.org/wp-content/uploads/2026/03/AMG_Brian-scaled.jpg
END:VEVENT
BEGIN:VEVENT
DTSTART;VALUE=DATE:20260627
DTEND;VALUE=DATE:20260628
DTSTAMP:20260423T115400
CREATED:20260423T141251Z
LAST-MODIFIED:20260423T141251Z
UID:10003951-1782518400-1782604799@www.knoxcountymastergardener.org
SUMMARY:KCMG @ Dixie Lee FM
DESCRIPTION:KCMG Ask a Master Gardener Table \nat Dixie Lee Farmers Market \nSaturdays\, April – October\, 9am – 12pm \nA team of gardeners will be available to answer your gardening questions and discuss gardening topics of interest. Please stop by and join us for a chat. \nLINK
URL:https://www.knoxcountymastergardener.org/event/kcmg-dixie-lee-fm/2026-06-27/
LOCATION:Dixie Lee Farmers Market\, 12740 Kingston Pike\, Knoxville\, 37934\, United States
CATEGORIES:AMG,Public Educational Events,Volunteer Opportunity Event
ATTACH;FMTTYPE=image/jpeg:https://www.knoxcountymastergardener.org/wp-content/uploads/2026/03/AMG_Brian-scaled.jpg
END:VEVENT
BEGIN:VEVENT
DTSTART;VALUE=DATE:20260630
DTEND;VALUE=DATE:20260701
DTSTAMP:20260423T115400
CREATED:20260331T195947Z
LAST-MODIFIED:20260421T214103Z
UID:10003801-1782777600-1782863999@www.knoxcountymastergardener.org
SUMMARY:KCMG @ Pavilion FM
DESCRIPTION:KCMG Ask a Master Gardener Table \nat Pavilion Farmers Market \nTuesdays\, May – November\, 4pm – 7pm \nA team of gardeners will be available to answer your gardening questions and discuss gardening topics of interest. Please stop by and join us for a chat. \nLINK
URL:https://www.knoxcountymastergardener.org/event/kcmg-pavilion-fm-2/2026-06-30/
LOCATION:Harden Valley Event Center\, 2620 Willow Point Way\, Knoxville\, TN\, 37931\, United States
CATEGORIES:AMG,Public Educational Events,Volunteer Opportunity Event
ATTACH;FMTTYPE=image/jpeg:https://www.knoxcountymastergardener.org/wp-content/uploads/2026/03/AMG_Brian-scaled.jpg
END:VEVENT
BEGIN:VEVENT
DTSTART;VALUE=DATE:20260701
DTEND;VALUE=DATE:20260702
DTSTAMP:20260423T115400
CREATED:20260321T200422Z
LAST-MODIFIED:20260421T212808Z
UID:10003735-1782864000-1782950399@www.knoxcountymastergardener.org
SUMMARY:KCMG @ Tellico FM
DESCRIPTION:KCMG Ask a Master Gardener Table at Tellico Village Farmers Market\nEvery Wednesday morning\, April-October 2026\nA team of gardeners will be available to answer your gardening questions and discuss gardening topics of interest. Please stop by and join us for a chat.
URL:https://www.knoxcountymastergardener.org/event/kcmg-tellico-fm/2026-07-01/
LOCATION:Tellico Community Center\, 202 Chota Rd\, Louden\, 37774\, United States
CATEGORIES:AMG,Public Educational Events,Volunteer Opportunity Event
ATTACH;FMTTYPE=image/jpeg:https://www.knoxcountymastergardener.org/wp-content/uploads/2026/03/AMG_Brian-scaled.jpg
END:VEVENT
BEGIN:VEVENT
DTSTART;VALUE=DATE:20260704
DTEND;VALUE=DATE:20260705
DTSTAMP:20260423T115400
CREATED:20260423T141251Z
LAST-MODIFIED:20260423T141251Z
UID:10003952-1783123200-1783209599@www.knoxcountymastergardener.org
SUMMARY:KCMG @ Dixie Lee FM
DESCRIPTION:KCMG Ask a Master Gardener Table \nat Dixie Lee Farmers Market \nSaturdays\, April – October\, 9am – 12pm \nA team of gardeners will be available to answer your gardening questions and discuss gardening topics of interest. Please stop by and join us for a chat. \nLINK
URL:https://www.knoxcountymastergardener.org/event/kcmg-dixie-lee-fm/2026-07-04/
LOCATION:Dixie Lee Farmers Market\, 12740 Kingston Pike\, Knoxville\, 37934\, United States
CATEGORIES:AMG,Public Educational Events,Volunteer Opportunity Event
ATTACH;FMTTYPE=image/jpeg:https://www.knoxcountymastergardener.org/wp-content/uploads/2026/03/AMG_Brian-scaled.jpg
END:VEVENT
BEGIN:VEVENT
DTSTART;VALUE=DATE:20260707
DTEND;VALUE=DATE:20260708
DTSTAMP:20260423T115400
CREATED:20260331T195947Z
LAST-MODIFIED:20260421T214103Z
UID:10003803-1783382400-1783468799@www.knoxcountymastergardener.org
SUMMARY:KCMG @ Pavilion FM
DESCRIPTION:KCMG Ask a Master Gardener Table \nat Pavilion Farmers Market \nTuesdays\, May – November\, 4pm – 7pm \nA team of gardeners will be available to answer your gardening questions and discuss gardening topics of interest. Please stop by and join us for a chat. \nLINK
URL:https://www.knoxcountymastergardener.org/event/kcmg-pavilion-fm-2/2026-07-07/
LOCATION:Harden Valley Event Center\, 2620 Willow Point Way\, Knoxville\, TN\, 37931\, United States
CATEGORIES:AMG,Public Educational Events,Volunteer Opportunity Event
ATTACH;FMTTYPE=image/jpeg:https://www.knoxcountymastergardener.org/wp-content/uploads/2026/03/AMG_Brian-scaled.jpg
END:VEVENT
BEGIN:VEVENT
DTSTART;VALUE=DATE:20260708
DTEND;VALUE=DATE:20260709
DTSTAMP:20260423T115400
CREATED:20260321T200422Z
LAST-MODIFIED:20260421T212808Z
UID:10003736-1783468800-1783555199@www.knoxcountymastergardener.org
SUMMARY:KCMG @ Tellico FM
DESCRIPTION:KCMG Ask a Master Gardener Table at Tellico Village Farmers Market\nEvery Wednesday morning\, April-October 2026\nA team of gardeners will be available to answer your gardening questions and discuss gardening topics of interest. Please stop by and join us for a chat.
URL:https://www.knoxcountymastergardener.org/event/kcmg-tellico-fm/2026-07-08/
LOCATION:Tellico Community Center\, 202 Chota Rd\, Louden\, 37774\, United States
CATEGORIES:AMG,Public Educational Events,Volunteer Opportunity Event
ATTACH;FMTTYPE=image/jpeg:https://www.knoxcountymastergardener.org/wp-content/uploads/2026/03/AMG_Brian-scaled.jpg
END:VEVENT
BEGIN:VEVENT
DTSTART;VALUE=DATE:20260711
DTEND;VALUE=DATE:20260712
DTSTAMP:20260423T115400
CREATED:20260423T141251Z
LAST-MODIFIED:20260423T141251Z
UID:10003953-1783728000-1783814399@www.knoxcountymastergardener.org
SUMMARY:KCMG @ Dixie Lee FM
DESCRIPTION:KCMG Ask a Master Gardener Table \nat Dixie Lee Farmers Market \nSaturdays\, April – October\, 9am – 12pm \nA team of gardeners will be available to answer your gardening questions and discuss gardening topics of interest. Please stop by and join us for a chat. \nLINK
URL:https://www.knoxcountymastergardener.org/event/kcmg-dixie-lee-fm/2026-07-11/
LOCATION:Dixie Lee Farmers Market\, 12740 Kingston Pike\, Knoxville\, 37934\, United States
CATEGORIES:AMG,Public Educational Events,Volunteer Opportunity Event
ATTACH;FMTTYPE=image/jpeg:https://www.knoxcountymastergardener.org/wp-content/uploads/2026/03/AMG_Brian-scaled.jpg
END:VEVENT
BEGIN:VEVENT
DTSTART;VALUE=DATE:20260714
DTEND;VALUE=DATE:20260715
DTSTAMP:20260423T115400
CREATED:20260331T195947Z
LAST-MODIFIED:20260421T214103Z
UID:10003805-1783987200-1784073599@www.knoxcountymastergardener.org
SUMMARY:KCMG @ Pavilion FM
DESCRIPTION:KCMG Ask a Master Gardener Table \nat Pavilion Farmers Market \nTuesdays\, May – November\, 4pm – 7pm \nA team of gardeners will be available to answer your gardening questions and discuss gardening topics of interest. Please stop by and join us for a chat. \nLINK
URL:https://www.knoxcountymastergardener.org/event/kcmg-pavilion-fm-2/2026-07-14/
LOCATION:Harden Valley Event Center\, 2620 Willow Point Way\, Knoxville\, TN\, 37931\, United States
CATEGORIES:AMG,Public Educational Events,Volunteer Opportunity Event
ATTACH;FMTTYPE=image/jpeg:https://www.knoxcountymastergardener.org/wp-content/uploads/2026/03/AMG_Brian-scaled.jpg
END:VEVENT
BEGIN:VEVENT
DTSTART;VALUE=DATE:20260715
DTEND;VALUE=DATE:20260716
DTSTAMP:20260423T115400
CREATED:20260321T200422Z
LAST-MODIFIED:20260421T212808Z
UID:10003737-1784073600-1784159999@www.knoxcountymastergardener.org
SUMMARY:KCMG @ Tellico FM
DESCRIPTION:KCMG Ask a Master Gardener Table at Tellico Village Farmers Market\nEvery Wednesday morning\, April-October 2026\nA team of gardeners will be available to answer your gardening questions and discuss gardening topics of interest. Please stop by and join us for a chat.
URL:https://www.knoxcountymastergardener.org/event/kcmg-tellico-fm/2026-07-15/
LOCATION:Tellico Community Center\, 202 Chota Rd\, Louden\, 37774\, United States
CATEGORIES:AMG,Public Educational Events,Volunteer Opportunity Event
ATTACH;FMTTYPE=image/jpeg:https://www.knoxcountymastergardener.org/wp-content/uploads/2026/03/AMG_Brian-scaled.jpg
END:VEVENT
BEGIN:VEVENT
DTSTART;VALUE=DATE:20260718
DTEND;VALUE=DATE:20260719
DTSTAMP:20260423T115401
CREATED:20260423T141251Z
LAST-MODIFIED:20260423T141251Z
UID:10003954-1784332800-1784419199@www.knoxcountymastergardener.org
SUMMARY:KCMG @ Dixie Lee FM
DESCRIPTION:KCMG Ask a Master Gardener Table \nat Dixie Lee Farmers Market \nSaturdays\, April – October\, 9am – 12pm \nA team of gardeners will be available to answer your gardening questions and discuss gardening topics of interest. Please stop by and join us for a chat. \nLINK
URL:https://www.knoxcountymastergardener.org/event/kcmg-dixie-lee-fm/2026-07-18/
LOCATION:Dixie Lee Farmers Market\, 12740 Kingston Pike\, Knoxville\, 37934\, United States
CATEGORIES:AMG,Public Educational Events,Volunteer Opportunity Event
ATTACH;FMTTYPE=image/jpeg:https://www.knoxcountymastergardener.org/wp-content/uploads/2026/03/AMG_Brian-scaled.jpg
END:VEVENT
BEGIN:VEVENT
DTSTART;VALUE=DATE:20260721
DTEND;VALUE=DATE:20260722
DTSTAMP:20260423T115401
CREATED:20260331T194409Z
LAST-MODIFIED:20260421T214412Z
UID:10003769-1784592000-1784678399@www.knoxcountymastergardener.org
SUMMARY:KCMG @ Ebenezer FM
DESCRIPTION:KCMG Ask a Master Gardener Table\nEbenezer Road Farmers Market\nEvery Third Tuesday afternoon \nApril – October\, 3pm – 6pm \nNovember 17th\, 2pm – 5pm \nA team of gardeners will be available to answer your gardening questions and discuss gardening topics of interest. Please stop by and join us for a chat.
URL:https://www.knoxcountymastergardener.org/event/kcmg-ebenezer-fm-3/2026-07-21/
LOCATION:Ebenezer United Methodist Church\, 1001 Ebenezer Rd\, Knoxville\, TN\, 37923\, United States
CATEGORIES:AMG,Public Educational Events,Volunteer Opportunity Event
ATTACH;FMTTYPE=image/jpeg:https://www.knoxcountymastergardener.org/wp-content/uploads/2024/10/IMG_6722-e1729892048201-scaled.jpeg
END:VEVENT
BEGIN:VEVENT
DTSTART;VALUE=DATE:20260721
DTEND;VALUE=DATE:20260722
DTSTAMP:20260423T115401
CREATED:20260331T195947Z
LAST-MODIFIED:20260421T214103Z
UID:10003807-1784592000-1784678399@www.knoxcountymastergardener.org
SUMMARY:KCMG @ Pavilion FM
DESCRIPTION:KCMG Ask a Master Gardener Table \nat Pavilion Farmers Market \nTuesdays\, May – November\, 4pm – 7pm \nA team of gardeners will be available to answer your gardening questions and discuss gardening topics of interest. Please stop by and join us for a chat. \nLINK
URL:https://www.knoxcountymastergardener.org/event/kcmg-pavilion-fm-2/2026-07-21/
LOCATION:Harden Valley Event Center\, 2620 Willow Point Way\, Knoxville\, TN\, 37931\, United States
CATEGORIES:AMG,Public Educational Events,Volunteer Opportunity Event
ATTACH;FMTTYPE=image/jpeg:https://www.knoxcountymastergardener.org/wp-content/uploads/2026/03/AMG_Brian-scaled.jpg
END:VEVENT
BEGIN:VEVENT
DTSTART;VALUE=DATE:20260722
DTEND;VALUE=DATE:20260723
DTSTAMP:20260423T115401
CREATED:20260321T200422Z
LAST-MODIFIED:20260421T212808Z
UID:10003738-1784678400-1784764799@www.knoxcountymastergardener.org
SUMMARY:KCMG @ Tellico FM
DESCRIPTION:KCMG Ask a Master Gardener Table at Tellico Village Farmers Market\nEvery Wednesday morning\, April-October 2026\nA team of gardeners will be available to answer your gardening questions and discuss gardening topics of interest. Please stop by and join us for a chat.
URL:https://www.knoxcountymastergardener.org/event/kcmg-tellico-fm/2026-07-22/
LOCATION:Tellico Community Center\, 202 Chota Rd\, Louden\, 37774\, United States
CATEGORIES:AMG,Public Educational Events,Volunteer Opportunity Event
ATTACH;FMTTYPE=image/jpeg:https://www.knoxcountymastergardener.org/wp-content/uploads/2026/03/AMG_Brian-scaled.jpg
END:VEVENT
BEGIN:VEVENT
DTSTART;VALUE=DATE:20260725
DTEND;VALUE=DATE:20260726
DTSTAMP:20260423T115401
CREATED:20260423T141251Z
LAST-MODIFIED:20260423T141251Z
UID:10003955-1784937600-1785023999@www.knoxcountymastergardener.org
SUMMARY:KCMG @ Dixie Lee FM
DESCRIPTION:KCMG Ask a Master Gardener Table \nat Dixie Lee Farmers Market \nSaturdays\, April – October\, 9am – 12pm \nA team of gardeners will be available to answer your gardening questions and discuss gardening topics of interest. Please stop by and join us for a chat. \nLINK
URL:https://www.knoxcountymastergardener.org/event/kcmg-dixie-lee-fm/2026-07-25/
LOCATION:Dixie Lee Farmers Market\, 12740 Kingston Pike\, Knoxville\, 37934\, United States
CATEGORIES:AMG,Public Educational Events,Volunteer Opportunity Event
ATTACH;FMTTYPE=image/jpeg:https://www.knoxcountymastergardener.org/wp-content/uploads/2026/03/AMG_Brian-scaled.jpg
END:VEVENT
BEGIN:VEVENT
DTSTART;VALUE=DATE:20260728
DTEND;VALUE=DATE:20260729
DTSTAMP:20260423T115401
CREATED:20260331T195947Z
LAST-MODIFIED:20260421T214103Z
UID:10003809-1785196800-1785283199@www.knoxcountymastergardener.org
SUMMARY:KCMG @ Pavilion FM
DESCRIPTION:KCMG Ask a Master Gardener Table \nat Pavilion Farmers Market \nTuesdays\, May – November\, 4pm – 7pm \nA team of gardeners will be available to answer your gardening questions and discuss gardening topics of interest. Please stop by and join us for a chat. \nLINK
URL:https://www.knoxcountymastergardener.org/event/kcmg-pavilion-fm-2/2026-07-28/
LOCATION:Harden Valley Event Center\, 2620 Willow Point Way\, Knoxville\, TN\, 37931\, United States
CATEGORIES:AMG,Public Educational Events,Volunteer Opportunity Event
ATTACH;FMTTYPE=image/jpeg:https://www.knoxcountymastergardener.org/wp-content/uploads/2026/03/AMG_Brian-scaled.jpg
END:VEVENT
BEGIN:VEVENT
DTSTART;VALUE=DATE:20260729
DTEND;VALUE=DATE:20260730
DTSTAMP:20260423T115401
CREATED:20260321T200422Z
LAST-MODIFIED:20260421T212808Z
UID:10003739-1785283200-1785369599@www.knoxcountymastergardener.org
SUMMARY:KCMG @ Tellico FM
DESCRIPTION:KCMG Ask a Master Gardener Table at Tellico Village Farmers Market\nEvery Wednesday morning\, April-October 2026\nA team of gardeners will be available to answer your gardening questions and discuss gardening topics of interest. Please stop by and join us for a chat.
URL:https://www.knoxcountymastergardener.org/event/kcmg-tellico-fm/2026-07-29/
LOCATION:Tellico Community Center\, 202 Chota Rd\, Louden\, 37774\, United States
CATEGORIES:AMG,Public Educational Events,Volunteer Opportunity Event
ATTACH;FMTTYPE=image/jpeg:https://www.knoxcountymastergardener.org/wp-content/uploads/2026/03/AMG_Brian-scaled.jpg
END:VEVENT
END:VCALENDAR