BEGIN:VCALENDAR
VERSION:2.0
PRODID:-//Knox County Master Gardener - ECPv6.15.20//NONSGML v1.0//EN
CALSCALE:GREGORIAN
METHOD:PUBLISH
X-WR-CALNAME:Knox County Master Gardener
X-ORIGINAL-URL:https://www.knoxcountymastergardener.org
X-WR-CALDESC:Events for Knox County Master Gardener
REFRESH-INTERVAL;VALUE=DURATION:PT1H
X-Robots-Tag:noindex
X-PUBLISHED-TTL:PT1H
BEGIN:VTIMEZONE
TZID:America/New_York
BEGIN:DAYLIGHT
TZOFFSETFROM:-0500
TZOFFSETTO:-0400
TZNAME:EDT
DTSTART:20250309T070000
END:DAYLIGHT
BEGIN:STANDARD
TZOFFSETFROM:-0400
TZOFFSETTO:-0500
TZNAME:EST
DTSTART:20251102T060000
END:STANDARD
BEGIN:DAYLIGHT
TZOFFSETFROM:-0500
TZOFFSETTO:-0400
TZNAME:EDT
DTSTART:20260308T070000
END:DAYLIGHT
BEGIN:STANDARD
TZOFFSETFROM:-0400
TZOFFSETTO:-0500
TZNAME:EST
DTSTART:20261101T060000
END:STANDARD
BEGIN:DAYLIGHT
TZOFFSETFROM:-0500
TZOFFSETTO:-0400
TZNAME:EDT
DTSTART:20270314T070000
END:DAYLIGHT
BEGIN:STANDARD
TZOFFSETFROM:-0400
TZOFFSETTO:-0500
TZNAME:EST
DTSTART:20271107T060000
END:STANDARD
END:VTIMEZONE
BEGIN:VEVENT
DTSTART;VALUE=DATE:20260425
DTEND;VALUE=DATE:20260426
DTSTAMP:20260423T112546
CREATED:20260320T170453Z
LAST-MODIFIED:20260423T145442Z
UID:10003672-1777075200-1777161599@www.knoxcountymastergardener.org
SUMMARY:Spring Flowers @ Collier
DESCRIPTION:Spring Flowers at Collier Preserve\nSaturday April 25 9:00 – 10:00 AM\nTake a ½ mile Guided Nature Walk with Master Gardener Sara Bryant \nLearn about the native flowers blooming at Collier Preserve \n316 W. Emory Rd \nPowell\, TN \nAdditional parking at Powell Library 330 Emory Rd. \n\n							\n 
URL:https://www.knoxcountymastergardener.org/event/guided-walk-collier-10/
LOCATION:Collier Preserve\, 316 W Emory Rd\, Powell\, TN\, 37849\, United States
CATEGORIES:Collier Preserve,Public Educational Events,Volunteer Opportunity Event
ATTACH;FMTTYPE=image/jpeg:https://www.knoxcountymastergardener.org/wp-content/uploads/2026/03/FB-GW-Apr-25-2026.jpg
END:VEVENT
BEGIN:VEVENT
DTSTART;VALUE=DATE:20260425
DTEND;VALUE=DATE:20260426
DTSTAMP:20260423T112546
CREATED:20260309T133547Z
LAST-MODIFIED:20260423T152030Z
UID:10003648-1777075200-1777161599@www.knoxcountymastergardener.org
SUMMARY:BLOOM Plant Sale
DESCRIPTION:The BLOOM Center Annual Spring Plant Sale\nSaturday\, April 25 @ 9am-3pm\, rain or shine\nThe BLOOM Center\, Central Baptist Church Bearden \nSave the date and save spots in your garden for plants from our annual spring plant sale!! It’s our primary fundraiser and all proceeds go into the program. A team of Knox County Master Gardeners will be available to answer your gardening questions and discuss gardening topics of interest. Please stop by and join us for a chat. \nBLOOM on Instagram: @bloomcenter_cb\nBLOOM on Facebook: https://www.facebook.com/thebloomcenter
URL:https://www.knoxcountymastergardener.org/event/bloom-plant-sale-2/
LOCATION:The BLOOM Center\, 6228 Anderson Dr.\, Knoxville\, Tennessee\, 37919\, United States
CATEGORIES:AMG,BLOOM Center,Volunteer Opportunity Event
ATTACH;FMTTYPE=image/jpeg:https://www.knoxcountymastergardener.org/wp-content/uploads/2025/02/BLOOM-Center-Entry-summer-e1739211759647.jpg
END:VEVENT
BEGIN:VEVENT
DTSTART;VALUE=DATE:20260425
DTEND;VALUE=DATE:20260426
DTSTAMP:20260423T112546
CREATED:20260405T192504Z
LAST-MODIFIED:20260423T144126Z
UID:10003971-1777075200-1777161599@www.knoxcountymastergardener.org
SUMMARY:Plant Clinic @ Burlington
DESCRIPTION:Ask a Master Gardener Plant Clinic Table\nBurlington Branch Library\n\nSaturday\, April 25\, 2026\, 1pm to 3pm \nSaturday\, May 30\, 2026\, 1pm to 3pm \nA team of Knox County Master Gardeners will be available to answer your gardening questions and discuss gardening topics of interest. Please stop by and join us for a chat.
URL:https://www.knoxcountymastergardener.org/event/plant-clinic-burlington/2026-04-25/
LOCATION:Burlington Branch Library\, 4614 Ashville Highway\, Knoxville\, 37914\, United States
CATEGORIES:AMG,Public Educational Events,Volunteer Opportunity Event
ATTACH;FMTTYPE=image/png:https://www.knoxcountymastergardener.org/wp-content/uploads/2026/03/Clinic_Norwood-e1774983645995.png
END:VEVENT
BEGIN:VEVENT
DTSTART;VALUE=DATE:20260425
DTEND;VALUE=DATE:20260426
DTSTAMP:20260423T112546
CREATED:20260423T141251Z
LAST-MODIFIED:20260423T141251Z
UID:10003942-1777075200-1777161599@www.knoxcountymastergardener.org
SUMMARY:KCMG @ Dixie Lee FM
DESCRIPTION:KCMG Ask a Master Gardener Table \nat Dixie Lee Farmers Market \nSaturdays\, April – October\, 9am – 12pm \nA team of gardeners will be available to answer your gardening questions and discuss gardening topics of interest. Please stop by and join us for a chat. \nLINK
URL:https://www.knoxcountymastergardener.org/event/kcmg-dixie-lee-fm/2026-04-25/
LOCATION:Dixie Lee Farmers Market\, 12740 Kingston Pike\, Knoxville\, 37934\, United States
CATEGORIES:AMG,Public Educational Events,Volunteer Opportunity Event
ATTACH;FMTTYPE=image/jpeg:https://www.knoxcountymastergardener.org/wp-content/uploads/2026/03/AMG_Brian-scaled.jpg
END:VEVENT
END:VCALENDAR