BEGIN:VCALENDAR
VERSION:2.0
PRODID:-//Knox County Master Gardener - ECPv6.15.20//NONSGML v1.0//EN
CALSCALE:GREGORIAN
METHOD:PUBLISH
X-ORIGINAL-URL:https://www.knoxcountymastergardener.org
X-WR-CALDESC:Events for Knox County Master Gardener
REFRESH-INTERVAL;VALUE=DURATION:PT1H
X-Robots-Tag:noindex
X-PUBLISHED-TTL:PT1H
BEGIN:VTIMEZONE
TZID:America/New_York
BEGIN:DAYLIGHT
TZOFFSETFROM:-0500
TZOFFSETTO:-0400
TZNAME:EDT
DTSTART:20250309T070000
END:DAYLIGHT
BEGIN:STANDARD
TZOFFSETFROM:-0400
TZOFFSETTO:-0500
TZNAME:EST
DTSTART:20251102T060000
END:STANDARD
BEGIN:DAYLIGHT
TZOFFSETFROM:-0500
TZOFFSETTO:-0400
TZNAME:EDT
DTSTART:20260308T070000
END:DAYLIGHT
BEGIN:STANDARD
TZOFFSETFROM:-0400
TZOFFSETTO:-0500
TZNAME:EST
DTSTART:20261101T060000
END:STANDARD
BEGIN:DAYLIGHT
TZOFFSETFROM:-0500
TZOFFSETTO:-0400
TZNAME:EDT
DTSTART:20270314T070000
END:DAYLIGHT
BEGIN:STANDARD
TZOFFSETFROM:-0400
TZOFFSETTO:-0500
TZNAME:EST
DTSTART:20271107T060000
END:STANDARD
END:VTIMEZONE
BEGIN:VEVENT
DTSTART;VALUE=DATE:20260711
DTEND;VALUE=DATE:20260712
DTSTAMP:20260423T175847
CREATED:20260423T141251Z
LAST-MODIFIED:20260423T141251Z
UID:10003953-1783728000-1783814399@www.knoxcountymastergardener.org
SUMMARY:KCMG @ Dixie Lee FM
DESCRIPTION:KCMG Ask a Master Gardener Table \nat Dixie Lee Farmers Market \nSaturdays\, April – October\, 9am – 12pm \nA team of gardeners will be available to answer your gardening questions and discuss gardening topics of interest. Please stop by and join us for a chat. \nLINK
URL:https://www.knoxcountymastergardener.org/event/kcmg-dixie-lee-fm/2026-07-11/
LOCATION:Dixie Lee Farmers Market\, 12740 Kingston Pike\, Knoxville\, 37934\, United States
CATEGORIES:AMG,Public Educational Events,Volunteer Opportunity Event
ATTACH;FMTTYPE=image/jpeg:https://www.knoxcountymastergardener.org/wp-content/uploads/2026/03/AMG_Brian-scaled.jpg
END:VEVENT
BEGIN:VEVENT
DTSTART;TZID=America/New_York:20260713T180000
DTEND;TZID=America/New_York:20260713T200000
DTSTAMP:20260423T175847
CREATED:20260321T191945Z
LAST-MODIFIED:20260321T191945Z
UID:10003679-1783965600-1783972800@www.knoxcountymastergardener.org
SUMMARY:Monthly Meeting
DESCRIPTION:KCMG Monthly Meeting\nFirst Monday each month except if on a holiday. 6-8pm\nCentral Bearden Church\, 6300 Deane Hill Dr.\, Knoxville 37919\nOR via  Members Home and scroll down for ZOOM link\n \nWe will begin at 6:00 PM with our social time. The meeting will begin at 6:30 PM with announcements before our program. Any announcement requests should be sent to the president by noon on Sunday before the meeting. \nSpeaker:  Forbes Walker\nTopic:  Post Hurricane Helen Updates \nNote:\nAttending the presentation portion of each monthly meeting counts as 1 CEU hour\, so remember to log this hour on the TEMG site. The business portion can be counted as 30 minutes toward volunteer hours as “Administrative Other.”
URL:https://www.knoxcountymastergardener.org/event/monthly-meeting-4/
LOCATION:Central Bearden Church\, 6300 Deane Hill Drive\, Knoxville\, TN\, 37919\, United States
CATEGORIES:Monthly Meeting
ATTACH;FMTTYPE=image/jpeg:https://www.knoxcountymastergardener.org/wp-content/uploads/2024/05/342709182_746425640507996_6258581651479812135_n-e1725219869845.jpg
END:VEVENT
BEGIN:VEVENT
DTSTART;VALUE=DATE:20260714
DTEND;VALUE=DATE:20260715
DTSTAMP:20260423T175847
CREATED:20260331T195947Z
LAST-MODIFIED:20260421T214103Z
UID:10003805-1783987200-1784073599@www.knoxcountymastergardener.org
SUMMARY:KCMG @ Pavilion FM
DESCRIPTION:KCMG Ask a Master Gardener Table \nat Pavilion Farmers Market \nTuesdays\, May – November\, 4pm – 7pm \nA team of gardeners will be available to answer your gardening questions and discuss gardening topics of interest. Please stop by and join us for a chat. \nLINK
URL:https://www.knoxcountymastergardener.org/event/kcmg-pavilion-fm-2/2026-07-14/
LOCATION:Harden Valley Event Center\, 2620 Willow Point Way\, Knoxville\, TN\, 37931\, United States
CATEGORIES:AMG,Public Educational Events,Volunteer Opportunity Event
ATTACH;FMTTYPE=image/jpeg:https://www.knoxcountymastergardener.org/wp-content/uploads/2026/03/AMG_Brian-scaled.jpg
END:VEVENT
BEGIN:VEVENT
DTSTART;VALUE=DATE:20260715
DTEND;VALUE=DATE:20260716
DTSTAMP:20260423T175847
CREATED:20260321T200422Z
LAST-MODIFIED:20260421T212808Z
UID:10003737-1784073600-1784159999@www.knoxcountymastergardener.org
SUMMARY:KCMG @ Tellico FM
DESCRIPTION:KCMG Ask a Master Gardener Table at Tellico Village Farmers Market\nEvery Wednesday morning\, April-October 2026\nA team of gardeners will be available to answer your gardening questions and discuss gardening topics of interest. Please stop by and join us for a chat.
URL:https://www.knoxcountymastergardener.org/event/kcmg-tellico-fm/2026-07-15/
LOCATION:Tellico Community Center\, 202 Chota Rd\, Louden\, 37774\, United States
CATEGORIES:AMG,Public Educational Events,Volunteer Opportunity Event
ATTACH;FMTTYPE=image/jpeg:https://www.knoxcountymastergardener.org/wp-content/uploads/2026/03/AMG_Brian-scaled.jpg
END:VEVENT
BEGIN:VEVENT
DTSTART;VALUE=DATE:20260718
DTEND;VALUE=DATE:20260719
DTSTAMP:20260423T175847
CREATED:20260423T141251Z
LAST-MODIFIED:20260423T141251Z
UID:10003954-1784332800-1784419199@www.knoxcountymastergardener.org
SUMMARY:KCMG @ Dixie Lee FM
DESCRIPTION:KCMG Ask a Master Gardener Table \nat Dixie Lee Farmers Market \nSaturdays\, April – October\, 9am – 12pm \nA team of gardeners will be available to answer your gardening questions and discuss gardening topics of interest. Please stop by and join us for a chat. \nLINK
URL:https://www.knoxcountymastergardener.org/event/kcmg-dixie-lee-fm/2026-07-18/
LOCATION:Dixie Lee Farmers Market\, 12740 Kingston Pike\, Knoxville\, 37934\, United States
CATEGORIES:AMG,Public Educational Events,Volunteer Opportunity Event
ATTACH;FMTTYPE=image/jpeg:https://www.knoxcountymastergardener.org/wp-content/uploads/2026/03/AMG_Brian-scaled.jpg
END:VEVENT
BEGIN:VEVENT
DTSTART;VALUE=DATE:20260721
DTEND;VALUE=DATE:20260722
DTSTAMP:20260423T175847
CREATED:20260331T194409Z
LAST-MODIFIED:20260421T214412Z
UID:10003769-1784592000-1784678399@www.knoxcountymastergardener.org
SUMMARY:KCMG @ Ebenezer FM
DESCRIPTION:KCMG Ask a Master Gardener Table\nEbenezer Road Farmers Market\nEvery Third Tuesday afternoon \nApril – October\, 3pm – 6pm \nNovember 17th\, 2pm – 5pm \nA team of gardeners will be available to answer your gardening questions and discuss gardening topics of interest. Please stop by and join us for a chat.
URL:https://www.knoxcountymastergardener.org/event/kcmg-ebenezer-fm-3/2026-07-21/
LOCATION:Ebenezer United Methodist Church\, 1001 Ebenezer Rd\, Knoxville\, TN\, 37923\, United States
CATEGORIES:AMG,Public Educational Events,Volunteer Opportunity Event
ATTACH;FMTTYPE=image/jpeg:https://www.knoxcountymastergardener.org/wp-content/uploads/2024/10/IMG_6722-e1729892048201-scaled.jpeg
END:VEVENT
BEGIN:VEVENT
DTSTART;VALUE=DATE:20260721
DTEND;VALUE=DATE:20260722
DTSTAMP:20260423T175847
CREATED:20260331T195947Z
LAST-MODIFIED:20260421T214103Z
UID:10003807-1784592000-1784678399@www.knoxcountymastergardener.org
SUMMARY:KCMG @ Pavilion FM
DESCRIPTION:KCMG Ask a Master Gardener Table \nat Pavilion Farmers Market \nTuesdays\, May – November\, 4pm – 7pm \nA team of gardeners will be available to answer your gardening questions and discuss gardening topics of interest. Please stop by and join us for a chat. \nLINK
URL:https://www.knoxcountymastergardener.org/event/kcmg-pavilion-fm-2/2026-07-21/
LOCATION:Harden Valley Event Center\, 2620 Willow Point Way\, Knoxville\, TN\, 37931\, United States
CATEGORIES:AMG,Public Educational Events,Volunteer Opportunity Event
ATTACH;FMTTYPE=image/jpeg:https://www.knoxcountymastergardener.org/wp-content/uploads/2026/03/AMG_Brian-scaled.jpg
END:VEVENT
BEGIN:VEVENT
DTSTART;VALUE=DATE:20260722
DTEND;VALUE=DATE:20260723
DTSTAMP:20260423T175847
CREATED:20260321T200422Z
LAST-MODIFIED:20260421T212808Z
UID:10003738-1784678400-1784764799@www.knoxcountymastergardener.org
SUMMARY:KCMG @ Tellico FM
DESCRIPTION:KCMG Ask a Master Gardener Table at Tellico Village Farmers Market\nEvery Wednesday morning\, April-October 2026\nA team of gardeners will be available to answer your gardening questions and discuss gardening topics of interest. Please stop by and join us for a chat.
URL:https://www.knoxcountymastergardener.org/event/kcmg-tellico-fm/2026-07-22/
LOCATION:Tellico Community Center\, 202 Chota Rd\, Louden\, 37774\, United States
CATEGORIES:AMG,Public Educational Events,Volunteer Opportunity Event
ATTACH;FMTTYPE=image/jpeg:https://www.knoxcountymastergardener.org/wp-content/uploads/2026/03/AMG_Brian-scaled.jpg
END:VEVENT
BEGIN:VEVENT
DTSTART;VALUE=DATE:20260725
DTEND;VALUE=DATE:20260726
DTSTAMP:20260423T175847
CREATED:20260423T141251Z
LAST-MODIFIED:20260423T141251Z
UID:10003955-1784937600-1785023999@www.knoxcountymastergardener.org
SUMMARY:KCMG @ Dixie Lee FM
DESCRIPTION:KCMG Ask a Master Gardener Table \nat Dixie Lee Farmers Market \nSaturdays\, April – October\, 9am – 12pm \nA team of gardeners will be available to answer your gardening questions and discuss gardening topics of interest. Please stop by and join us for a chat. \nLINK
URL:https://www.knoxcountymastergardener.org/event/kcmg-dixie-lee-fm/2026-07-25/
LOCATION:Dixie Lee Farmers Market\, 12740 Kingston Pike\, Knoxville\, 37934\, United States
CATEGORIES:AMG,Public Educational Events,Volunteer Opportunity Event
ATTACH;FMTTYPE=image/jpeg:https://www.knoxcountymastergardener.org/wp-content/uploads/2026/03/AMG_Brian-scaled.jpg
END:VEVENT
BEGIN:VEVENT
DTSTART;VALUE=DATE:20260728
DTEND;VALUE=DATE:20260729
DTSTAMP:20260423T175847
CREATED:20260331T195947Z
LAST-MODIFIED:20260421T214103Z
UID:10003809-1785196800-1785283199@www.knoxcountymastergardener.org
SUMMARY:KCMG @ Pavilion FM
DESCRIPTION:KCMG Ask a Master Gardener Table \nat Pavilion Farmers Market \nTuesdays\, May – November\, 4pm – 7pm \nA team of gardeners will be available to answer your gardening questions and discuss gardening topics of interest. Please stop by and join us for a chat. \nLINK
URL:https://www.knoxcountymastergardener.org/event/kcmg-pavilion-fm-2/2026-07-28/
LOCATION:Harden Valley Event Center\, 2620 Willow Point Way\, Knoxville\, TN\, 37931\, United States
CATEGORIES:AMG,Public Educational Events,Volunteer Opportunity Event
ATTACH;FMTTYPE=image/jpeg:https://www.knoxcountymastergardener.org/wp-content/uploads/2026/03/AMG_Brian-scaled.jpg
END:VEVENT
BEGIN:VEVENT
DTSTART;VALUE=DATE:20260729
DTEND;VALUE=DATE:20260730
DTSTAMP:20260423T175847
CREATED:20260321T200422Z
LAST-MODIFIED:20260421T212808Z
UID:10003739-1785283200-1785369599@www.knoxcountymastergardener.org
SUMMARY:KCMG @ Tellico FM
DESCRIPTION:KCMG Ask a Master Gardener Table at Tellico Village Farmers Market\nEvery Wednesday morning\, April-October 2026\nA team of gardeners will be available to answer your gardening questions and discuss gardening topics of interest. Please stop by and join us for a chat.
URL:https://www.knoxcountymastergardener.org/event/kcmg-tellico-fm/2026-07-29/
LOCATION:Tellico Community Center\, 202 Chota Rd\, Louden\, 37774\, United States
CATEGORIES:AMG,Public Educational Events,Volunteer Opportunity Event
ATTACH;FMTTYPE=image/jpeg:https://www.knoxcountymastergardener.org/wp-content/uploads/2026/03/AMG_Brian-scaled.jpg
END:VEVENT
BEGIN:VEVENT
DTSTART;VALUE=DATE:20260801
DTEND;VALUE=DATE:20260802
DTSTAMP:20260423T175847
CREATED:20260423T141251Z
LAST-MODIFIED:20260423T141251Z
UID:10003956-1785542400-1785628799@www.knoxcountymastergardener.org
SUMMARY:KCMG @ Dixie Lee FM
DESCRIPTION:KCMG Ask a Master Gardener Table \nat Dixie Lee Farmers Market \nSaturdays\, April – October\, 9am – 12pm \nA team of gardeners will be available to answer your gardening questions and discuss gardening topics of interest. Please stop by and join us for a chat. \nLINK
URL:https://www.knoxcountymastergardener.org/event/kcmg-dixie-lee-fm/2026-08-01/
LOCATION:Dixie Lee Farmers Market\, 12740 Kingston Pike\, Knoxville\, 37934\, United States
CATEGORIES:AMG,Public Educational Events,Volunteer Opportunity Event
ATTACH;FMTTYPE=image/jpeg:https://www.knoxcountymastergardener.org/wp-content/uploads/2026/03/AMG_Brian-scaled.jpg
END:VEVENT
BEGIN:VEVENT
DTSTART;TZID=America/New_York:20260803T180000
DTEND;TZID=America/New_York:20260803T200000
DTSTAMP:20260423T175847
CREATED:20260321T192737Z
LAST-MODIFIED:20260321T192737Z
UID:10003680-1785780000-1785787200@www.knoxcountymastergardener.org
SUMMARY:Monthly Meeting
DESCRIPTION:KCMG Monthly Meeting\nFirst Monday each month except if on a holiday. 6-8pm\nCentral Bearden Church\, 6300 Deane Hill Dr.\, Knoxville 37919\nOR via  Members Home and scroll down for ZOOM link\n \nWe will begin at 6:00 PM with our social time. The meeting will begin at 6:30 PM with announcements before our program. Any announcement requests should be sent to the president by noon on Sunday before the meeting. \nSpeaker:  Chris Battle\nTopic:  Turning a Food Desert into a Food Oasis \nNote:\nAttending the presentation portion of each monthly meeting counts as 1 CEU hour\, so remember to log this hour on the TEMG site. The business portion can be counted as 30 minutes toward volunteer hours as “Administrative Other.”
URL:https://www.knoxcountymastergardener.org/event/monthly-meeting-6/
LOCATION:Central Bearden Church\, 6300 Deane Hill Drive\, Knoxville\, TN\, 37919\, United States
CATEGORIES:Monthly Meeting
ATTACH;FMTTYPE=image/jpeg:https://www.knoxcountymastergardener.org/wp-content/uploads/2024/05/342709182_746425640507996_6258581651479812135_n-e1725219869845.jpg
END:VEVENT
BEGIN:VEVENT
DTSTART;VALUE=DATE:20260804
DTEND;VALUE=DATE:20260805
DTSTAMP:20260423T175847
CREATED:20260331T195947Z
LAST-MODIFIED:20260421T214103Z
UID:10003811-1785801600-1785887999@www.knoxcountymastergardener.org
SUMMARY:KCMG @ Pavilion FM
DESCRIPTION:KCMG Ask a Master Gardener Table \nat Pavilion Farmers Market \nTuesdays\, May – November\, 4pm – 7pm \nA team of gardeners will be available to answer your gardening questions and discuss gardening topics of interest. Please stop by and join us for a chat. \nLINK
URL:https://www.knoxcountymastergardener.org/event/kcmg-pavilion-fm-2/2026-08-04/
LOCATION:Harden Valley Event Center\, 2620 Willow Point Way\, Knoxville\, TN\, 37931\, United States
CATEGORIES:AMG,Public Educational Events,Volunteer Opportunity Event
ATTACH;FMTTYPE=image/jpeg:https://www.knoxcountymastergardener.org/wp-content/uploads/2026/03/AMG_Brian-scaled.jpg
END:VEVENT
BEGIN:VEVENT
DTSTART;VALUE=DATE:20260805
DTEND;VALUE=DATE:20260806
DTSTAMP:20260423T175847
CREATED:20260321T200422Z
LAST-MODIFIED:20260421T212808Z
UID:10003740-1785888000-1785974399@www.knoxcountymastergardener.org
SUMMARY:KCMG @ Tellico FM
DESCRIPTION:KCMG Ask a Master Gardener Table at Tellico Village Farmers Market\nEvery Wednesday morning\, April-October 2026\nA team of gardeners will be available to answer your gardening questions and discuss gardening topics of interest. Please stop by and join us for a chat.
URL:https://www.knoxcountymastergardener.org/event/kcmg-tellico-fm/2026-08-05/
LOCATION:Tellico Community Center\, 202 Chota Rd\, Louden\, 37774\, United States
CATEGORIES:AMG,Public Educational Events,Volunteer Opportunity Event
ATTACH;FMTTYPE=image/jpeg:https://www.knoxcountymastergardener.org/wp-content/uploads/2026/03/AMG_Brian-scaled.jpg
END:VEVENT
BEGIN:VEVENT
DTSTART;VALUE=DATE:20260808
DTEND;VALUE=DATE:20260809
DTSTAMP:20260423T175847
CREATED:20260423T141251Z
LAST-MODIFIED:20260423T141251Z
UID:10003957-1786147200-1786233599@www.knoxcountymastergardener.org
SUMMARY:KCMG @ Dixie Lee FM
DESCRIPTION:KCMG Ask a Master Gardener Table \nat Dixie Lee Farmers Market \nSaturdays\, April – October\, 9am – 12pm \nA team of gardeners will be available to answer your gardening questions and discuss gardening topics of interest. Please stop by and join us for a chat. \nLINK
URL:https://www.knoxcountymastergardener.org/event/kcmg-dixie-lee-fm/2026-08-08/
LOCATION:Dixie Lee Farmers Market\, 12740 Kingston Pike\, Knoxville\, 37934\, United States
CATEGORIES:AMG,Public Educational Events,Volunteer Opportunity Event
ATTACH;FMTTYPE=image/jpeg:https://www.knoxcountymastergardener.org/wp-content/uploads/2026/03/AMG_Brian-scaled.jpg
END:VEVENT
BEGIN:VEVENT
DTSTART;VALUE=DATE:20260811
DTEND;VALUE=DATE:20260812
DTSTAMP:20260423T175847
CREATED:20260331T195947Z
LAST-MODIFIED:20260421T214103Z
UID:10003813-1786406400-1786492799@www.knoxcountymastergardener.org
SUMMARY:KCMG @ Pavilion FM
DESCRIPTION:KCMG Ask a Master Gardener Table \nat Pavilion Farmers Market \nTuesdays\, May – November\, 4pm – 7pm \nA team of gardeners will be available to answer your gardening questions and discuss gardening topics of interest. Please stop by and join us for a chat. \nLINK
URL:https://www.knoxcountymastergardener.org/event/kcmg-pavilion-fm-2/2026-08-11/
LOCATION:Harden Valley Event Center\, 2620 Willow Point Way\, Knoxville\, TN\, 37931\, United States
CATEGORIES:AMG,Public Educational Events,Volunteer Opportunity Event
ATTACH;FMTTYPE=image/jpeg:https://www.knoxcountymastergardener.org/wp-content/uploads/2026/03/AMG_Brian-scaled.jpg
END:VEVENT
BEGIN:VEVENT
DTSTART;VALUE=DATE:20260812
DTEND;VALUE=DATE:20260813
DTSTAMP:20260423T175847
CREATED:20260321T200422Z
LAST-MODIFIED:20260421T212808Z
UID:10003741-1786492800-1786579199@www.knoxcountymastergardener.org
SUMMARY:KCMG @ Tellico FM
DESCRIPTION:KCMG Ask a Master Gardener Table at Tellico Village Farmers Market\nEvery Wednesday morning\, April-October 2026\nA team of gardeners will be available to answer your gardening questions and discuss gardening topics of interest. Please stop by and join us for a chat.
URL:https://www.knoxcountymastergardener.org/event/kcmg-tellico-fm/2026-08-12/
LOCATION:Tellico Community Center\, 202 Chota Rd\, Louden\, 37774\, United States
CATEGORIES:AMG,Public Educational Events,Volunteer Opportunity Event
ATTACH;FMTTYPE=image/jpeg:https://www.knoxcountymastergardener.org/wp-content/uploads/2026/03/AMG_Brian-scaled.jpg
END:VEVENT
BEGIN:VEVENT
DTSTART;VALUE=DATE:20260815
DTEND;VALUE=DATE:20260816
DTSTAMP:20260423T175847
CREATED:20260423T141251Z
LAST-MODIFIED:20260423T141251Z
UID:10003958-1786752000-1786838399@www.knoxcountymastergardener.org
SUMMARY:KCMG @ Dixie Lee FM
DESCRIPTION:KCMG Ask a Master Gardener Table \nat Dixie Lee Farmers Market \nSaturdays\, April – October\, 9am – 12pm \nA team of gardeners will be available to answer your gardening questions and discuss gardening topics of interest. Please stop by and join us for a chat. \nLINK
URL:https://www.knoxcountymastergardener.org/event/kcmg-dixie-lee-fm/2026-08-15/
LOCATION:Dixie Lee Farmers Market\, 12740 Kingston Pike\, Knoxville\, 37934\, United States
CATEGORIES:AMG,Public Educational Events,Volunteer Opportunity Event
ATTACH;FMTTYPE=image/jpeg:https://www.knoxcountymastergardener.org/wp-content/uploads/2026/03/AMG_Brian-scaled.jpg
END:VEVENT
BEGIN:VEVENT
DTSTART;VALUE=DATE:20260818
DTEND;VALUE=DATE:20260819
DTSTAMP:20260423T175847
CREATED:20260331T194409Z
LAST-MODIFIED:20260421T214412Z
UID:10003770-1787011200-1787097599@www.knoxcountymastergardener.org
SUMMARY:KCMG @ Ebenezer FM
DESCRIPTION:KCMG Ask a Master Gardener Table\nEbenezer Road Farmers Market\nEvery Third Tuesday afternoon \nApril – October\, 3pm – 6pm \nNovember 17th\, 2pm – 5pm \nA team of gardeners will be available to answer your gardening questions and discuss gardening topics of interest. Please stop by and join us for a chat.
URL:https://www.knoxcountymastergardener.org/event/kcmg-ebenezer-fm-3/2026-08-18/
LOCATION:Ebenezer United Methodist Church\, 1001 Ebenezer Rd\, Knoxville\, TN\, 37923\, United States
CATEGORIES:AMG,Public Educational Events,Volunteer Opportunity Event
ATTACH;FMTTYPE=image/jpeg:https://www.knoxcountymastergardener.org/wp-content/uploads/2024/10/IMG_6722-e1729892048201-scaled.jpeg
END:VEVENT
BEGIN:VEVENT
DTSTART;VALUE=DATE:20260818
DTEND;VALUE=DATE:20260819
DTSTAMP:20260423T175847
CREATED:20260331T195947Z
LAST-MODIFIED:20260421T214103Z
UID:10003815-1787011200-1787097599@www.knoxcountymastergardener.org
SUMMARY:KCMG @ Pavilion FM
DESCRIPTION:KCMG Ask a Master Gardener Table \nat Pavilion Farmers Market \nTuesdays\, May – November\, 4pm – 7pm \nA team of gardeners will be available to answer your gardening questions and discuss gardening topics of interest. Please stop by and join us for a chat. \nLINK
URL:https://www.knoxcountymastergardener.org/event/kcmg-pavilion-fm-2/2026-08-18/
LOCATION:Harden Valley Event Center\, 2620 Willow Point Way\, Knoxville\, TN\, 37931\, United States
CATEGORIES:AMG,Public Educational Events,Volunteer Opportunity Event
ATTACH;FMTTYPE=image/jpeg:https://www.knoxcountymastergardener.org/wp-content/uploads/2026/03/AMG_Brian-scaled.jpg
END:VEVENT
BEGIN:VEVENT
DTSTART;VALUE=DATE:20260819
DTEND;VALUE=DATE:20260820
DTSTAMP:20260423T175847
CREATED:20260321T200422Z
LAST-MODIFIED:20260421T212808Z
UID:10003742-1787097600-1787183999@www.knoxcountymastergardener.org
SUMMARY:KCMG @ Tellico FM
DESCRIPTION:KCMG Ask a Master Gardener Table at Tellico Village Farmers Market\nEvery Wednesday morning\, April-October 2026\nA team of gardeners will be available to answer your gardening questions and discuss gardening topics of interest. Please stop by and join us for a chat.
URL:https://www.knoxcountymastergardener.org/event/kcmg-tellico-fm/2026-08-19/
LOCATION:Tellico Community Center\, 202 Chota Rd\, Louden\, 37774\, United States
CATEGORIES:AMG,Public Educational Events,Volunteer Opportunity Event
ATTACH;FMTTYPE=image/jpeg:https://www.knoxcountymastergardener.org/wp-content/uploads/2026/03/AMG_Brian-scaled.jpg
END:VEVENT
BEGIN:VEVENT
DTSTART;VALUE=DATE:20260822
DTEND;VALUE=DATE:20260823
DTSTAMP:20260423T175847
CREATED:20260423T141251Z
LAST-MODIFIED:20260423T141251Z
UID:10003959-1787356800-1787443199@www.knoxcountymastergardener.org
SUMMARY:KCMG @ Dixie Lee FM
DESCRIPTION:KCMG Ask a Master Gardener Table \nat Dixie Lee Farmers Market \nSaturdays\, April – October\, 9am – 12pm \nA team of gardeners will be available to answer your gardening questions and discuss gardening topics of interest. Please stop by and join us for a chat. \nLINK
URL:https://www.knoxcountymastergardener.org/event/kcmg-dixie-lee-fm/2026-08-22/
LOCATION:Dixie Lee Farmers Market\, 12740 Kingston Pike\, Knoxville\, 37934\, United States
CATEGORIES:AMG,Public Educational Events,Volunteer Opportunity Event
ATTACH;FMTTYPE=image/jpeg:https://www.knoxcountymastergardener.org/wp-content/uploads/2026/03/AMG_Brian-scaled.jpg
END:VEVENT
BEGIN:VEVENT
DTSTART;VALUE=DATE:20260825
DTEND;VALUE=DATE:20260826
DTSTAMP:20260423T175847
CREATED:20260331T195947Z
LAST-MODIFIED:20260421T214103Z
UID:10003817-1787616000-1787702399@www.knoxcountymastergardener.org
SUMMARY:KCMG @ Pavilion FM
DESCRIPTION:KCMG Ask a Master Gardener Table \nat Pavilion Farmers Market \nTuesdays\, May – November\, 4pm – 7pm \nA team of gardeners will be available to answer your gardening questions and discuss gardening topics of interest. Please stop by and join us for a chat. \nLINK
URL:https://www.knoxcountymastergardener.org/event/kcmg-pavilion-fm-2/2026-08-25/
LOCATION:Harden Valley Event Center\, 2620 Willow Point Way\, Knoxville\, TN\, 37931\, United States
CATEGORIES:AMG,Public Educational Events,Volunteer Opportunity Event
ATTACH;FMTTYPE=image/jpeg:https://www.knoxcountymastergardener.org/wp-content/uploads/2026/03/AMG_Brian-scaled.jpg
END:VEVENT
BEGIN:VEVENT
DTSTART;VALUE=DATE:20260826
DTEND;VALUE=DATE:20260827
DTSTAMP:20260423T175847
CREATED:20260321T200422Z
LAST-MODIFIED:20260421T212808Z
UID:10003743-1787702400-1787788799@www.knoxcountymastergardener.org
SUMMARY:KCMG @ Tellico FM
DESCRIPTION:KCMG Ask a Master Gardener Table at Tellico Village Farmers Market\nEvery Wednesday morning\, April-October 2026\nA team of gardeners will be available to answer your gardening questions and discuss gardening topics of interest. Please stop by and join us for a chat.
URL:https://www.knoxcountymastergardener.org/event/kcmg-tellico-fm/2026-08-26/
LOCATION:Tellico Community Center\, 202 Chota Rd\, Louden\, 37774\, United States
CATEGORIES:AMG,Public Educational Events,Volunteer Opportunity Event
ATTACH;FMTTYPE=image/jpeg:https://www.knoxcountymastergardener.org/wp-content/uploads/2026/03/AMG_Brian-scaled.jpg
END:VEVENT
BEGIN:VEVENT
DTSTART;VALUE=DATE:20260829
DTEND;VALUE=DATE:20260830
DTSTAMP:20260423T175847
CREATED:20260423T141251Z
LAST-MODIFIED:20260423T141251Z
UID:10003960-1787961600-1788047999@www.knoxcountymastergardener.org
SUMMARY:KCMG @ Dixie Lee FM
DESCRIPTION:KCMG Ask a Master Gardener Table \nat Dixie Lee Farmers Market \nSaturdays\, April – October\, 9am – 12pm \nA team of gardeners will be available to answer your gardening questions and discuss gardening topics of interest. Please stop by and join us for a chat. \nLINK
URL:https://www.knoxcountymastergardener.org/event/kcmg-dixie-lee-fm/2026-08-29/
LOCATION:Dixie Lee Farmers Market\, 12740 Kingston Pike\, Knoxville\, 37934\, United States
CATEGORIES:AMG,Public Educational Events,Volunteer Opportunity Event
ATTACH;FMTTYPE=image/jpeg:https://www.knoxcountymastergardener.org/wp-content/uploads/2026/03/AMG_Brian-scaled.jpg
END:VEVENT
BEGIN:VEVENT
DTSTART;VALUE=DATE:20260901
DTEND;VALUE=DATE:20260902
DTSTAMP:20260423T175847
CREATED:20260331T195947Z
LAST-MODIFIED:20260421T214103Z
UID:10003819-1788220800-1788307199@www.knoxcountymastergardener.org
SUMMARY:KCMG @ Pavilion FM
DESCRIPTION:KCMG Ask a Master Gardener Table \nat Pavilion Farmers Market \nTuesdays\, May – November\, 4pm – 7pm \nA team of gardeners will be available to answer your gardening questions and discuss gardening topics of interest. Please stop by and join us for a chat. \nLINK
URL:https://www.knoxcountymastergardener.org/event/kcmg-pavilion-fm-2/2026-09-01/
LOCATION:Harden Valley Event Center\, 2620 Willow Point Way\, Knoxville\, TN\, 37931\, United States
CATEGORIES:AMG,Public Educational Events,Volunteer Opportunity Event
ATTACH;FMTTYPE=image/jpeg:https://www.knoxcountymastergardener.org/wp-content/uploads/2026/03/AMG_Brian-scaled.jpg
END:VEVENT
BEGIN:VEVENT
DTSTART;VALUE=DATE:20260902
DTEND;VALUE=DATE:20260903
DTSTAMP:20260423T175847
CREATED:20260321T200422Z
LAST-MODIFIED:20260421T212808Z
UID:10003744-1788307200-1788393599@www.knoxcountymastergardener.org
SUMMARY:KCMG @ Tellico FM
DESCRIPTION:KCMG Ask a Master Gardener Table at Tellico Village Farmers Market\nEvery Wednesday morning\, April-October 2026\nA team of gardeners will be available to answer your gardening questions and discuss gardening topics of interest. Please stop by and join us for a chat.
URL:https://www.knoxcountymastergardener.org/event/kcmg-tellico-fm/2026-09-02/
LOCATION:Tellico Community Center\, 202 Chota Rd\, Louden\, 37774\, United States
CATEGORIES:AMG,Public Educational Events,Volunteer Opportunity Event
ATTACH;FMTTYPE=image/jpeg:https://www.knoxcountymastergardener.org/wp-content/uploads/2026/03/AMG_Brian-scaled.jpg
END:VEVENT
BEGIN:VEVENT
DTSTART;VALUE=DATE:20260905
DTEND;VALUE=DATE:20260906
DTSTAMP:20260423T175847
CREATED:20260423T141251Z
LAST-MODIFIED:20260423T141251Z
UID:10003961-1788566400-1788652799@www.knoxcountymastergardener.org
SUMMARY:KCMG @ Dixie Lee FM
DESCRIPTION:KCMG Ask a Master Gardener Table \nat Dixie Lee Farmers Market \nSaturdays\, April – October\, 9am – 12pm \nA team of gardeners will be available to answer your gardening questions and discuss gardening topics of interest. Please stop by and join us for a chat. \nLINK
URL:https://www.knoxcountymastergardener.org/event/kcmg-dixie-lee-fm/2026-09-05/
LOCATION:Dixie Lee Farmers Market\, 12740 Kingston Pike\, Knoxville\, 37934\, United States
CATEGORIES:AMG,Public Educational Events,Volunteer Opportunity Event
ATTACH;FMTTYPE=image/jpeg:https://www.knoxcountymastergardener.org/wp-content/uploads/2026/03/AMG_Brian-scaled.jpg
END:VEVENT
BEGIN:VEVENT
DTSTART;VALUE=DATE:20260908
DTEND;VALUE=DATE:20260909
DTSTAMP:20260423T175847
CREATED:20260331T195947Z
LAST-MODIFIED:20260421T214103Z
UID:10003821-1788825600-1788911999@www.knoxcountymastergardener.org
SUMMARY:KCMG @ Pavilion FM
DESCRIPTION:KCMG Ask a Master Gardener Table \nat Pavilion Farmers Market \nTuesdays\, May – November\, 4pm – 7pm \nA team of gardeners will be available to answer your gardening questions and discuss gardening topics of interest. Please stop by and join us for a chat. \nLINK
URL:https://www.knoxcountymastergardener.org/event/kcmg-pavilion-fm-2/2026-09-08/
LOCATION:Harden Valley Event Center\, 2620 Willow Point Way\, Knoxville\, TN\, 37931\, United States
CATEGORIES:AMG,Public Educational Events,Volunteer Opportunity Event
ATTACH;FMTTYPE=image/jpeg:https://www.knoxcountymastergardener.org/wp-content/uploads/2026/03/AMG_Brian-scaled.jpg
END:VEVENT
END:VCALENDAR