BEGIN:VCALENDAR
VERSION:2.0
PRODID:-//Knox County Master Gardener - ECPv6.15.20//NONSGML v1.0//EN
CALSCALE:GREGORIAN
METHOD:PUBLISH
X-ORIGINAL-URL:https://www.knoxcountymastergardener.org
X-WR-CALDESC:Events for Knox County Master Gardener
REFRESH-INTERVAL;VALUE=DURATION:PT1H
X-Robots-Tag:noindex
X-PUBLISHED-TTL:PT1H
BEGIN:VTIMEZONE
TZID:America/New_York
BEGIN:DAYLIGHT
TZOFFSETFROM:-0500
TZOFFSETTO:-0400
TZNAME:EDT
DTSTART:20240310T070000
END:DAYLIGHT
BEGIN:STANDARD
TZOFFSETFROM:-0400
TZOFFSETTO:-0500
TZNAME:EST
DTSTART:20241103T060000
END:STANDARD
BEGIN:DAYLIGHT
TZOFFSETFROM:-0500
TZOFFSETTO:-0400
TZNAME:EDT
DTSTART:20250309T070000
END:DAYLIGHT
BEGIN:STANDARD
TZOFFSETFROM:-0400
TZOFFSETTO:-0500
TZNAME:EST
DTSTART:20251102T060000
END:STANDARD
BEGIN:DAYLIGHT
TZOFFSETFROM:-0500
TZOFFSETTO:-0400
TZNAME:EDT
DTSTART:20260308T070000
END:DAYLIGHT
BEGIN:STANDARD
TZOFFSETFROM:-0400
TZOFFSETTO:-0500
TZNAME:EST
DTSTART:20261101T060000
END:STANDARD
END:VTIMEZONE
BEGIN:VEVENT
DTSTART;TZID=America/New_York:20250816T100000
DTEND;TZID=America/New_York:20250816T120000
DTSTAMP:20260425T132553
CREATED:20250714T205513Z
LAST-MODIFIED:20250816T201711Z
UID:10002249-1755338400-1755345600@www.knoxcountymastergardener.org
SUMMARY:Plant Clinic - Norwood
DESCRIPTION:Ask a Master Gardener Plant Clinic Table\nNorwood Branch Library\n\nWhen:    Saturday\, August 16\, 2025\, 10am to noon\n                Saturday\, September 13\, 2025\, 10am to noon\n                Additional dates to TBA\nWho:      Free and open to the public  \nA team of Knox County Master Gardeners will be available to answer your gardening questions and discuss gardening topics of interest. Please stop by and join us for a chat.
URL:https://www.knoxcountymastergardener.org/event/plant-clinic-norwood-9/2025-08-16/
LOCATION:Norwood Branch Library\, 1110 Merchant Dr.\, Knoxville\, TN\, 37912\, United States
CATEGORIES:Public Educational Events
ATTACH;FMTTYPE=image/jpeg:https://www.knoxcountymastergardener.org/wp-content/uploads/2024/05/13698269_1131734290224749_4972821889520993546_o.jpg
END:VEVENT
BEGIN:VEVENT
DTSTART;VALUE=DATE:20250820
DTEND;VALUE=DATE:20250821
DTSTAMP:20260425T132553
CREATED:20250824T232315Z
LAST-MODIFIED:20250824T233453Z
UID:10002794-1755648000-1755734399@www.knoxcountymastergardener.org
SUMMARY:Tellico Farm Market
DESCRIPTION:KCMG Ask a Master Gardener Table at Tellico Village Farmers Market\nEvery Third Wednesday morning\, April-October 2025 \nA team of gardeners will be available to answer your gardening questions and discuss gardening topics of interest. Please stop by and join us for a chat.
URL:https://www.knoxcountymastergardener.org/event/tellico-farm-market/2025-08-20/
LOCATION:Tellico Community Center\, 202 Chota Rd\, Louden\, 37774\, United States
CATEGORIES:Public Educational Events
ATTACH;FMTTYPE=image/jpeg:https://www.knoxcountymastergardener.org/wp-content/uploads/2024/06/Beardsley_Community_Farm_2022-3140-1-scaled.jpg
END:VEVENT
BEGIN:VEVENT
DTSTART;VALUE=DATE:20250827
DTEND;VALUE=DATE:20250828
DTSTAMP:20260425T132553
CREATED:20250824T232315Z
LAST-MODIFIED:20250824T233453Z
UID:10002821-1756252800-1756339199@www.knoxcountymastergardener.org
SUMMARY:Tellico Farm Market
DESCRIPTION:KCMG Ask a Master Gardener Table at Tellico Village Farmers Market\nEvery Third Wednesday morning\, April-October 2025 \nA team of gardeners will be available to answer your gardening questions and discuss gardening topics of interest. Please stop by and join us for a chat.
URL:https://www.knoxcountymastergardener.org/event/tellico-farm-market/2025-08-27/
LOCATION:Tellico Community Center\, 202 Chota Rd\, Louden\, 37774\, United States
CATEGORIES:Public Educational Events
ATTACH;FMTTYPE=image/jpeg:https://www.knoxcountymastergardener.org/wp-content/uploads/2024/06/Beardsley_Community_Farm_2022-3140-1-scaled.jpg
END:VEVENT
BEGIN:VEVENT
DTSTART;VALUE=DATE:20250828
DTEND;VALUE=DATE:20250829
DTSTAMP:20260425T132553
CREATED:20250824T234513Z
LAST-MODIFIED:20250824T234513Z
UID:10002829-1756339200-1756425599@www.knoxcountymastergardener.org
SUMMARY:Pavilion Farm Market
DESCRIPTION:KCMG Ask a Master Gardener Table at Pavilion Farmers Market\nEvery Thursday afternoon\, June 5-October 30\, 2025 \nA team of gardeners will be available to answer your gardening questions and discuss gardening topics of interest. Please stop by and join us for a chat.
URL:https://www.knoxcountymastergardener.org/event/pavilion-farm-market/2025-08-28/
LOCATION:Harden Valley Event Center\, 2620 Willow Point Way\, Knoxville\, TN\, 37931\, United States
CATEGORIES:Public Educational Events
ATTACH;FMTTYPE=image/jpeg:https://www.knoxcountymastergardener.org/wp-content/uploads/2024/07/1-radishes-e1724968125163.jpg
END:VEVENT
END:VCALENDAR