BEGIN:VCALENDAR
VERSION:2.0
PRODID:-//Knox County Master Gardener - ECPv6.15.20//NONSGML v1.0//EN
CALSCALE:GREGORIAN
METHOD:PUBLISH
X-ORIGINAL-URL:https://www.knoxcountymastergardener.org
X-WR-CALDESC:Events for Knox County Master Gardener
REFRESH-INTERVAL;VALUE=DURATION:PT1H
X-Robots-Tag:noindex
X-PUBLISHED-TTL:PT1H
BEGIN:VTIMEZONE
TZID:America/New_York
BEGIN:DAYLIGHT
TZOFFSETFROM:-0500
TZOFFSETTO:-0400
TZNAME:EDT
DTSTART:20240310T070000
END:DAYLIGHT
BEGIN:STANDARD
TZOFFSETFROM:-0400
TZOFFSETTO:-0500
TZNAME:EST
DTSTART:20241103T060000
END:STANDARD
BEGIN:DAYLIGHT
TZOFFSETFROM:-0500
TZOFFSETTO:-0400
TZNAME:EDT
DTSTART:20250309T070000
END:DAYLIGHT
BEGIN:STANDARD
TZOFFSETFROM:-0400
TZOFFSETTO:-0500
TZNAME:EST
DTSTART:20251102T060000
END:STANDARD
BEGIN:DAYLIGHT
TZOFFSETFROM:-0500
TZOFFSETTO:-0400
TZNAME:EDT
DTSTART:20260308T070000
END:DAYLIGHT
BEGIN:STANDARD
TZOFFSETFROM:-0400
TZOFFSETTO:-0500
TZNAME:EST
DTSTART:20261101T060000
END:STANDARD
END:VTIMEZONE
BEGIN:VEVENT
DTSTART;VALUE=DATE:20251001
DTEND;VALUE=DATE:20251002
DTSTAMP:20260425T081438
CREATED:20250824T232315Z
LAST-MODIFIED:20250824T233453Z
UID:10002825-1759276800-1759363199@www.knoxcountymastergardener.org
SUMMARY:Tellico Farm Market
DESCRIPTION:KCMG Ask a Master Gardener Table at Tellico Village Farmers Market\nEvery Third Wednesday morning\, April-October 2025 \nA team of gardeners will be available to answer your gardening questions and discuss gardening topics of interest. Please stop by and join us for a chat.
URL:https://www.knoxcountymastergardener.org/event/tellico-farm-market/2025-10-01/
LOCATION:Tellico Community Center\, 202 Chota Rd\, Louden\, 37774\, United States
CATEGORIES:Public Educational Events
ATTACH;FMTTYPE=image/jpeg:https://www.knoxcountymastergardener.org/wp-content/uploads/2024/06/Beardsley_Community_Farm_2022-3140-1-scaled.jpg
END:VEVENT
BEGIN:VEVENT
DTSTART;VALUE=DATE:20251002
DTEND;VALUE=DATE:20251003
DTSTAMP:20260425T081438
CREATED:20250824T234513Z
LAST-MODIFIED:20250824T234513Z
UID:10002834-1759363200-1759449599@www.knoxcountymastergardener.org
SUMMARY:Pavilion Farm Market
DESCRIPTION:KCMG Ask a Master Gardener Table at Pavilion Farmers Market\nEvery Thursday afternoon\, June 5-October 30\, 2025 \nA team of gardeners will be available to answer your gardening questions and discuss gardening topics of interest. Please stop by and join us for a chat.
URL:https://www.knoxcountymastergardener.org/event/pavilion-farm-market/2025-10-02/
LOCATION:Harden Valley Event Center\, 2620 Willow Point Way\, Knoxville\, TN\, 37931\, United States
CATEGORIES:Public Educational Events
ATTACH;FMTTYPE=image/jpeg:https://www.knoxcountymastergardener.org/wp-content/uploads/2024/07/1-radishes-e1724968125163.jpg
END:VEVENT
BEGIN:VEVENT
DTSTART;VALUE=DATE:20251008
DTEND;VALUE=DATE:20251009
DTSTAMP:20260425T081438
CREATED:20250824T232315Z
LAST-MODIFIED:20250824T233453Z
UID:10002826-1759881600-1759967999@www.knoxcountymastergardener.org
SUMMARY:Tellico Farm Market
DESCRIPTION:KCMG Ask a Master Gardener Table at Tellico Village Farmers Market\nEvery Third Wednesday morning\, April-October 2025 \nA team of gardeners will be available to answer your gardening questions and discuss gardening topics of interest. Please stop by and join us for a chat.
URL:https://www.knoxcountymastergardener.org/event/tellico-farm-market/2025-10-08/
LOCATION:Tellico Community Center\, 202 Chota Rd\, Louden\, 37774\, United States
CATEGORIES:Public Educational Events
ATTACH;FMTTYPE=image/jpeg:https://www.knoxcountymastergardener.org/wp-content/uploads/2024/06/Beardsley_Community_Farm_2022-3140-1-scaled.jpg
END:VEVENT
BEGIN:VEVENT
DTSTART;VALUE=DATE:20251009
DTEND;VALUE=DATE:20251010
DTSTAMP:20260425T081438
CREATED:20250824T234513Z
LAST-MODIFIED:20250824T234513Z
UID:10002835-1759968000-1760054399@www.knoxcountymastergardener.org
SUMMARY:Pavilion Farm Market
DESCRIPTION:KCMG Ask a Master Gardener Table at Pavilion Farmers Market\nEvery Thursday afternoon\, June 5-October 30\, 2025 \nA team of gardeners will be available to answer your gardening questions and discuss gardening topics of interest. Please stop by and join us for a chat.
URL:https://www.knoxcountymastergardener.org/event/pavilion-farm-market/2025-10-09/
LOCATION:Harden Valley Event Center\, 2620 Willow Point Way\, Knoxville\, TN\, 37931\, United States
CATEGORIES:Public Educational Events
ATTACH;FMTTYPE=image/jpeg:https://www.knoxcountymastergardener.org/wp-content/uploads/2024/07/1-radishes-e1724968125163.jpg
END:VEVENT
BEGIN:VEVENT
DTSTART;VALUE=DATE:20251015
DTEND;VALUE=DATE:20251016
DTSTAMP:20260425T081438
CREATED:20250824T232315Z
LAST-MODIFIED:20250824T233453Z
UID:10002796-1760486400-1760572799@www.knoxcountymastergardener.org
SUMMARY:Tellico Farm Market
DESCRIPTION:KCMG Ask a Master Gardener Table at Tellico Village Farmers Market\nEvery Third Wednesday morning\, April-October 2025 \nA team of gardeners will be available to answer your gardening questions and discuss gardening topics of interest. Please stop by and join us for a chat.
URL:https://www.knoxcountymastergardener.org/event/tellico-farm-market/2025-10-15/
LOCATION:Tellico Community Center\, 202 Chota Rd\, Louden\, 37774\, United States
CATEGORIES:Public Educational Events
ATTACH;FMTTYPE=image/jpeg:https://www.knoxcountymastergardener.org/wp-content/uploads/2024/06/Beardsley_Community_Farm_2022-3140-1-scaled.jpg
END:VEVENT
BEGIN:VEVENT
DTSTART;VALUE=DATE:20251016
DTEND;VALUE=DATE:20251017
DTSTAMP:20260425T081438
CREATED:20250824T234513Z
LAST-MODIFIED:20250824T234513Z
UID:10002836-1760572800-1760659199@www.knoxcountymastergardener.org
SUMMARY:Pavilion Farm Market
DESCRIPTION:KCMG Ask a Master Gardener Table at Pavilion Farmers Market\nEvery Thursday afternoon\, June 5-October 30\, 2025 \nA team of gardeners will be available to answer your gardening questions and discuss gardening topics of interest. Please stop by and join us for a chat.
URL:https://www.knoxcountymastergardener.org/event/pavilion-farm-market/2025-10-16/
LOCATION:Harden Valley Event Center\, 2620 Willow Point Way\, Knoxville\, TN\, 37931\, United States
CATEGORIES:Public Educational Events
ATTACH;FMTTYPE=image/jpeg:https://www.knoxcountymastergardener.org/wp-content/uploads/2024/07/1-radishes-e1724968125163.jpg
END:VEVENT
BEGIN:VEVENT
DTSTART;TZID=America/New_York:20251018T100000
DTEND;TZID=America/New_York:20251018T120000
DTSTAMP:20260425T081438
CREATED:20250918T140906Z
LAST-MODIFIED:20250918T140906Z
UID:10002852-1760781600-1760788800@www.knoxcountymastergardener.org
SUMMARY:Plant Clinic - Norwood
DESCRIPTION:Ask a Master Gardener Plant Clinic Table\nNorwood Branch Library\n\nWhen:    Saturday\, October 18\, 2025\, 10am to noon\n                Saturday\, November 15\, 2025\, 10am to noon\n                Additional dates to TBA\nWho:      Free and open to the public  \nA team of Knox County Master Gardeners will be available to answer your gardening questions and discuss gardening topics of interest. Please stop by and join us for a chat.
URL:https://www.knoxcountymastergardener.org/event/plant-clinic-norwood-10/2025-10-18/
LOCATION:Norwood Branch Library\, 1110 Merchant Dr.\, Knoxville\, TN\, 37912\, United States
CATEGORIES:Public Educational Events
ATTACH;FMTTYPE=image/jpeg:https://www.knoxcountymastergardener.org/wp-content/uploads/2024/05/13698269_1131734290224749_4972821889520993546_o.jpg
END:VEVENT
BEGIN:VEVENT
DTSTART;VALUE=DATE:20251021
DTEND;VALUE=DATE:20251022
DTSTAMP:20260425T081438
CREATED:20250822T005016Z
LAST-MODIFIED:20250824T223117Z
UID:10002707-1761004800-1761091199@www.knoxcountymastergardener.org
SUMMARY:Ebenezer Farm Market
DESCRIPTION:KCMG Ask a Master Gardener Table at Ebenezer Road Farmers Market\nEvery Third Tuesday afternoon\, April – Nov 2025 \nA team of gardeners will be available to answer your gardening questions and discuss gardening topics of interest. Please stop by and join us for a chat.
URL:https://www.knoxcountymastergardener.org/event/ebenezer-farm-market/2025-10-21/
LOCATION:Ebenezer United Methodist Church\, 1001 Ebenezer Rd\, Knoxville\, TN\, 37923\, United States
CATEGORIES:Public Educational Events
ATTACH;FMTTYPE=image/jpeg:https://www.knoxcountymastergardener.org/wp-content/uploads/2024/06/new-harvest-farmers-market-scaled.jpg
END:VEVENT
BEGIN:VEVENT
DTSTART;VALUE=DATE:20251022
DTEND;VALUE=DATE:20251023
DTSTAMP:20260425T081438
CREATED:20250824T232315Z
LAST-MODIFIED:20250824T233453Z
UID:10002827-1761091200-1761177599@www.knoxcountymastergardener.org
SUMMARY:Tellico Farm Market
DESCRIPTION:KCMG Ask a Master Gardener Table at Tellico Village Farmers Market\nEvery Third Wednesday morning\, April-October 2025 \nA team of gardeners will be available to answer your gardening questions and discuss gardening topics of interest. Please stop by and join us for a chat.
URL:https://www.knoxcountymastergardener.org/event/tellico-farm-market/2025-10-22/
LOCATION:Tellico Community Center\, 202 Chota Rd\, Louden\, 37774\, United States
CATEGORIES:Public Educational Events
ATTACH;FMTTYPE=image/jpeg:https://www.knoxcountymastergardener.org/wp-content/uploads/2024/06/Beardsley_Community_Farm_2022-3140-1-scaled.jpg
END:VEVENT
BEGIN:VEVENT
DTSTART;VALUE=DATE:20251022
DTEND;VALUE=DATE:20251023
DTSTAMP:20260425T081438
CREATED:20250824T224419Z
LAST-MODIFIED:20250824T224419Z
UID:10002772-1761120000-1761152400@www.knoxcountymastergardener.org
SUMMARY:Market Square Farm Market
DESCRIPTION:KCMG Ask a Master Gardener Table at Market Square Farmers Market\nSaturday 8:30am- 1:15pm\, September 20  & November 1\, 2025\nWednesday 9:30am-1:15pm\, September 24 & October 22\, 2025 \nA team of Master Gardeners will be available to answer your gardening questions and discuss gardening topics of interest. Please stop by and join us for a chat.
URL:https://www.knoxcountymastergardener.org/event/market-square-farm-market/2025-10-22/
LOCATION:Market Square\, Knoxville\, 37902\, United States
CATEGORIES:Public Educational Events
ATTACH;FMTTYPE=image/jpeg:https://www.knoxcountymastergardener.org/wp-content/uploads/2024/05/downtown-knox-Farmers_10_10000_512_fill.jpeg
END:VEVENT
BEGIN:VEVENT
DTSTART;VALUE=DATE:20251023
DTEND;VALUE=DATE:20251024
DTSTAMP:20260425T081438
CREATED:20250824T234513Z
LAST-MODIFIED:20250824T234513Z
UID:10002837-1761177600-1761263999@www.knoxcountymastergardener.org
SUMMARY:Pavilion Farm Market
DESCRIPTION:KCMG Ask a Master Gardener Table at Pavilion Farmers Market\nEvery Thursday afternoon\, June 5-October 30\, 2025 \nA team of gardeners will be available to answer your gardening questions and discuss gardening topics of interest. Please stop by and join us for a chat.
URL:https://www.knoxcountymastergardener.org/event/pavilion-farm-market/2025-10-23/
LOCATION:Harden Valley Event Center\, 2620 Willow Point Way\, Knoxville\, TN\, 37931\, United States
CATEGORIES:Public Educational Events
ATTACH;FMTTYPE=image/jpeg:https://www.knoxcountymastergardener.org/wp-content/uploads/2024/07/1-radishes-e1724968125163.jpg
END:VEVENT
BEGIN:VEVENT
DTSTART;TZID=America/New_York:20251026T130000
DTEND;TZID=America/New_York:20251026T170000
DTSTAMP:20260425T081438
CREATED:20250812T011610Z
LAST-MODIFIED:20250816T004931Z
UID:10002628-1761483600-1761498000@www.knoxcountymastergardener.org
SUMMARY:Fall Festival @ KBGA
DESCRIPTION:Knoxville Botanic Gardens and Arboretum\nFall Festival and Plant Sale\nCome celebrate the harvest season with music\, hands-on fall crafts\, lawn games\, hay rides\, face painting\, food\, and many local and botanical artisan wares. Plus pick up your trees\, shrubs\, and natives ideal for fall planting. For full details\, visit knoxgarden.org \nhttps://www.knoxgarden.org/fallfestival
URL:https://www.knoxcountymastergardener.org/event/kbga-fall-festival-2/
LOCATION:Knoxville Botanical Garden and Arboretum\, 2743 Wimpole Avenue\, Knoxville\, 37914\, United States
CATEGORIES:Outside Events
ATTACH;FMTTYPE=image/jpeg:https://www.knoxcountymastergardener.org/wp-content/uploads/2024/10/KBGA-fall-fest-e1729892703512.jpeg
END:VEVENT
BEGIN:VEVENT
DTSTART;VALUE=DATE:20251029
DTEND;VALUE=DATE:20251030
DTSTAMP:20260425T081438
CREATED:20250824T232315Z
LAST-MODIFIED:20250824T233453Z
UID:10002828-1761696000-1761782399@www.knoxcountymastergardener.org
SUMMARY:Tellico Farm Market
DESCRIPTION:KCMG Ask a Master Gardener Table at Tellico Village Farmers Market\nEvery Third Wednesday morning\, April-October 2025 \nA team of gardeners will be available to answer your gardening questions and discuss gardening topics of interest. Please stop by and join us for a chat.
URL:https://www.knoxcountymastergardener.org/event/tellico-farm-market/2025-10-29/
LOCATION:Tellico Community Center\, 202 Chota Rd\, Louden\, 37774\, United States
CATEGORIES:Public Educational Events
ATTACH;FMTTYPE=image/jpeg:https://www.knoxcountymastergardener.org/wp-content/uploads/2024/06/Beardsley_Community_Farm_2022-3140-1-scaled.jpg
END:VEVENT
BEGIN:VEVENT
DTSTART;TZID=America/New_York:20251029T110000
DTEND;TZID=America/New_York:20251029T120000
DTSTAMP:20260425T081438
CREATED:20250730T225422Z
LAST-MODIFIED:20250730T230246Z
UID:10002256-1761735600-1761739200@www.knoxcountymastergardener.org
SUMMARY:Become a Master Gardener
DESCRIPTION:Learn How to Become a Master Gardener Volunteer!\nDo you love growing food and flowers? Want to learn best practices and share your wisdom? Have you ever wondered about how to become a Master Gardener Volunteer? \nPlan to attend a free live Zoom presentation by UT-TSU Extension – Knox County Master Gardener Coordinator Rylan Thompson. \n\n\n\n\nYou will hear about volunteering in community gardens and projects\, meet volunteers already involved in the program and learn how to participate in upcoming training classes led by horticultural specialists. \nPlease RSVP: cthomp55@tnstate.edu or call 865-215-2340 \n\n\n\n\nKCMG Informational flyer 2026
URL:https://www.knoxcountymastergardener.org/event/become-a-master-gardener/2025-10-29/
LOCATION:Zoom
CATEGORIES:Public Educational Events
ATTACH;FMTTYPE=image/jpeg:https://www.knoxcountymastergardener.org/wp-content/uploads/2024/06/Adult-Camp-e1753916347129.jpeg
END:VEVENT
BEGIN:VEVENT
DTSTART;VALUE=DATE:20251030
DTEND;VALUE=DATE:20251031
DTSTAMP:20260425T081438
CREATED:20250824T234513Z
LAST-MODIFIED:20250824T234513Z
UID:10002838-1761782400-1761868799@www.knoxcountymastergardener.org
SUMMARY:Pavilion Farm Market
DESCRIPTION:KCMG Ask a Master Gardener Table at Pavilion Farmers Market\nEvery Thursday afternoon\, June 5-October 30\, 2025 \nA team of gardeners will be available to answer your gardening questions and discuss gardening topics of interest. Please stop by and join us for a chat.
URL:https://www.knoxcountymastergardener.org/event/pavilion-farm-market/2025-10-30/
LOCATION:Harden Valley Event Center\, 2620 Willow Point Way\, Knoxville\, TN\, 37931\, United States
CATEGORIES:Public Educational Events
ATTACH;FMTTYPE=image/jpeg:https://www.knoxcountymastergardener.org/wp-content/uploads/2024/07/1-radishes-e1724968125163.jpg
END:VEVENT
END:VCALENDAR