BEGIN:VCALENDAR
VERSION:2.0
PRODID:-//Knox County Master Gardener - ECPv6.15.20//NONSGML v1.0//EN
CALSCALE:GREGORIAN
METHOD:PUBLISH
X-ORIGINAL-URL:https://www.knoxcountymastergardener.org
X-WR-CALDESC:Events for Knox County Master Gardener
REFRESH-INTERVAL;VALUE=DURATION:PT1H
X-Robots-Tag:noindex
X-PUBLISHED-TTL:PT1H
BEGIN:VTIMEZONE
TZID:America/New_York
BEGIN:DAYLIGHT
TZOFFSETFROM:-0500
TZOFFSETTO:-0400
TZNAME:EDT
DTSTART:20240310T070000
END:DAYLIGHT
BEGIN:STANDARD
TZOFFSETFROM:-0400
TZOFFSETTO:-0500
TZNAME:EST
DTSTART:20241103T060000
END:STANDARD
BEGIN:DAYLIGHT
TZOFFSETFROM:-0500
TZOFFSETTO:-0400
TZNAME:EDT
DTSTART:20250309T070000
END:DAYLIGHT
BEGIN:STANDARD
TZOFFSETFROM:-0400
TZOFFSETTO:-0500
TZNAME:EST
DTSTART:20251102T060000
END:STANDARD
BEGIN:DAYLIGHT
TZOFFSETFROM:-0500
TZOFFSETTO:-0400
TZNAME:EDT
DTSTART:20260308T070000
END:DAYLIGHT
BEGIN:STANDARD
TZOFFSETFROM:-0400
TZOFFSETTO:-0500
TZNAME:EST
DTSTART:20261101T060000
END:STANDARD
END:VTIMEZONE
BEGIN:VEVENT
DTSTART;TZID=America/New_York:20250614T100000
DTEND;TZID=America/New_York:20250614T120000
DTSTAMP:20260423T040756
CREATED:20250524T133846Z
LAST-MODIFIED:20250524T133846Z
UID:10002228-1749895200-1749902400@www.knoxcountymastergardener.org
SUMMARY:Native Plant Walk @  KBGA
DESCRIPTION:Native Plant Walk at Knoxville Botanical Garden and Arboretum\nSaturday\, June 14\, 2025 @ 10am-noon\nMeet at the Visitors Center\n2743 Wimpole Ave\, Knoxville\, TN 37914\n\nDetails and registration at knoxgarden.org
URL:https://www.knoxcountymastergardener.org/event/native-plant-walk-kbga/
LOCATION:Knoxville Botanical Garden and Arboretum\, 2743 Wimpole Avenue\, Knoxville\, 37914\, United States
CATEGORIES:Outside Events,Public Educational Events
ATTACH;FMTTYPE=image/jpeg:https://www.knoxcountymastergardener.org/wp-content/uploads/2025/03/KBGA-Sign-scaled-e1742908234436.jpg
END:VEVENT
END:VCALENDAR