BEGIN:VCALENDAR
VERSION:2.0
PRODID:-//Knox County Master Gardener - ECPv6.15.20//NONSGML v1.0//EN
CALSCALE:GREGORIAN
METHOD:PUBLISH
X-WR-CALNAME:Knox County Master Gardener
X-ORIGINAL-URL:https://www.knoxcountymastergardener.org
X-WR-CALDESC:Events for Knox County Master Gardener
REFRESH-INTERVAL;VALUE=DURATION:PT1H
X-Robots-Tag:noindex
X-PUBLISHED-TTL:PT1H
BEGIN:VTIMEZONE
TZID:America/New_York
BEGIN:DAYLIGHT
TZOFFSETFROM:-0500
TZOFFSETTO:-0400
TZNAME:EDT
DTSTART:20250309T070000
END:DAYLIGHT
BEGIN:STANDARD
TZOFFSETFROM:-0400
TZOFFSETTO:-0500
TZNAME:EST
DTSTART:20251102T060000
END:STANDARD
BEGIN:DAYLIGHT
TZOFFSETFROM:-0500
TZOFFSETTO:-0400
TZNAME:EDT
DTSTART:20260308T070000
END:DAYLIGHT
BEGIN:STANDARD
TZOFFSETFROM:-0400
TZOFFSETTO:-0500
TZNAME:EST
DTSTART:20261101T060000
END:STANDARD
BEGIN:DAYLIGHT
TZOFFSETFROM:-0500
TZOFFSETTO:-0400
TZNAME:EDT
DTSTART:20270314T070000
END:DAYLIGHT
BEGIN:STANDARD
TZOFFSETFROM:-0400
TZOFFSETTO:-0500
TZNAME:EST
DTSTART:20271107T060000
END:STANDARD
END:VTIMEZONE
BEGIN:VEVENT
DTSTART;TZID=America/New_York:20260314T100000
DTEND;TZID=America/New_York:20260314T130000
DTSTAMP:20260423T234421
CREATED:20260110T003813Z
LAST-MODIFIED:20260110T003813Z
UID:10003482-1773482400-1773493200@www.knoxcountymastergardener.org
SUMMARY:Pavilion Winter Market
DESCRIPTION:KCMG Ask a Master Gardener Table\nat Pavilion Winter Farmers Market\nEvery 2nd and 4th Saturday\, 10 am – 1 pm\n January 10 – April 12\, 2026\nA team of gardeners will be available to answer your gardening questions and discuss gardening topics of interest. Please stop by and join us for a chat. \nhttps://www.facebook.com/share/1HnerdcQxu/
URL:https://www.knoxcountymastergardener.org/event/pavilion-winter-market/2026-03-14/
LOCATION:Harden Valley Event Center\, 2620 Willow Point Way\, Knoxville\, TN\, 37931\, United States
CATEGORIES:Public Educational Events
ATTACH;FMTTYPE=image/jpeg:https://www.knoxcountymastergardener.org/wp-content/uploads/2024/06/farmers-market-placeholder.jpg
END:VEVENT
BEGIN:VEVENT
DTSTART;TZID=America/New_York:20260316T100000
DTEND;TZID=America/New_York:20260316T130000
DTSTAMP:20260423T234421
CREATED:20260226T220232Z
LAST-MODIFIED:20260226T220232Z
UID:10003634-1773655200-1773666000@www.knoxcountymastergardener.org
SUMMARY:Tree Day Prep @  KBGA
DESCRIPTION:TEC Tennessee Tree Day Prep\nKBGA Carriage House\, 2649 Boyds Bridge Pike\, Knoxville\, TN\, 37914\n\n\nVolunteer Opportunity\nMarch 16\, 2026\, 10a-1p\nMarch 17\, 2026\, 9a-2p\n\n\nHelp count\, sort\, and organize thousands of bare root trees in the KBGA Carriage House. It’s somewhat messy\, but fairly light work that helps increase tree canopy in our community.\n\nPlease contact volunteer@knoxgarden.org to sign up for a shift.\nFor more information about this annual event\, see https://www.tectn.org/tennesseetreeday.html.
URL:https://www.knoxcountymastergardener.org/event/tree-day-prep-kbga/
LOCATION:Knoxville Botanical Garden and Arboretum – Carriage House\, 2649 Boyds Bridge Pike\, Knoxville\, TN\, 37914
CATEGORIES:Volunteer Opportunity Event
ATTACH;FMTTYPE=image/jpeg:https://www.knoxcountymastergardener.org/wp-content/uploads/2019/12/landscaper-02-service.jpg
END:VEVENT
BEGIN:VEVENT
DTSTART;TZID=America/New_York:20260317T090000
DTEND;TZID=America/New_York:20260317T140000
DTSTAMP:20260423T234421
CREATED:20260226T220319Z
LAST-MODIFIED:20260226T220319Z
UID:10003635-1773738000-1773756000@www.knoxcountymastergardener.org
SUMMARY:Tree Day Prep @  KBGA
DESCRIPTION:TEC Tennessee Tree Day Prep\nKBGA Carriage House\, 2649 Boyds Bridge Pike\, Knoxville\, TN\, 37914\n\n\nVolunteer Opportunity\nMarch 16\, 2026\, 10a-1p\nMarch 17\, 2026\, 9a-2p\n\n\nHelp count\, sort\, and organize thousands of bare root trees in the KBGA Carriage House. It’s somewhat messy\, but fairly light work that helps increase tree canopy in our community.\n\nPlease contact volunteer@knoxgarden.org to sign up for a shift.\nFor more information about this annual event\, see https://www.tectn.org/tennesseetreeday.html.
URL:https://www.knoxcountymastergardener.org/event/tree-day-prep-kbga-2/
LOCATION:Knoxville Botanical Garden and Arboretum – Carriage House\, 2649 Boyds Bridge Pike\, Knoxville\, TN\, 37914
CATEGORIES:Volunteer Opportunity Event
ATTACH;FMTTYPE=image/jpeg:https://www.knoxcountymastergardener.org/wp-content/uploads/2019/12/landscaper-02-service.jpg
END:VEVENT
BEGIN:VEVENT
DTSTART;TZID=America/New_York:20260321T090000
DTEND;TZID=America/New_York:20260321T103000
DTSTAMP:20260423T234421
CREATED:20260110T013731Z
LAST-MODIFIED:20260213T182204Z
UID:10003515-1774083600-1774089000@www.knoxcountymastergardener.org
SUMMARY:Guided Tree Walk
DESCRIPTION:March 21\nGuided Tree Walk with Lee Rumble\nCollier Preserve – 316 Emory Rd.\, Powell\, TN\n9-10:30 AM\nTake a ½ mile walk in the woods with Extension Agent Lee Rumble to learn about the trees at Collier Preserve in springtime. \nSpace is limited so register at this Sign-Up Genius link: https://bit.ly/CPTreeWalk \nAdditional parking available at Powell Branch Library 330 Emory Rd. or across the street at Powell Methodist Church on the far right side of the parking lot.
URL:https://www.knoxcountymastergardener.org/event/guided-walk-collier-9/
LOCATION:Collier Preserve\, 316 W Emory Rd\, Powell\, TN\, 37849\, United States
CATEGORIES:Public Educational Events
ATTACH;FMTTYPE=image/jpeg:https://www.knoxcountymastergardener.org/wp-content/uploads/2026/01/Lee-Rumble-tree-walk-2.jpg
END:VEVENT
BEGIN:VEVENT
DTSTART;TZID=America/New_York:20260321T100000
DTEND;TZID=America/New_York:20260321T120000
DTSTAMP:20260423T234421
CREATED:20260124T214835Z
LAST-MODIFIED:20260405T192754Z
UID:10003590-1774087200-1774094400@www.knoxcountymastergardener.org
SUMMARY:Plant Clinic @ Norwood
DESCRIPTION:Ask a Master Gardener Plant Clinic Table\nNorwood Branch Library\n\nWhen:    Saturday\, February 21\, 2026\, 10am to noon\n                Saturday\, March 21\, 2026\, 10am to noon\n                Additional dates to TBA\nWho:      Free and open to the public  \nA team of Knox County Master Gardeners will be available to answer your gardening questions and discuss gardening topics of interest. Please stop by and join us for a chat.
URL:https://www.knoxcountymastergardener.org/event/plant-clinic-norwood-11/2026-03-21/
LOCATION:Norwood Branch Library\, 1110 Merchant Dr.\, Knoxville\, TN\, 37912\, United States
CATEGORIES:Public Educational Events
ATTACH;FMTTYPE=image/jpeg:https://www.knoxcountymastergardener.org/wp-content/uploads/2024/05/13698269_1131734290224749_4972821889520993546_o.jpg
END:VEVENT
BEGIN:VEVENT
DTSTART;TZID=America/New_York:20260326T140000
DTEND;TZID=America/New_York:20260326T140000
DTSTAMP:20260423T234421
CREATED:20260301T014725Z
LAST-MODIFIED:20260301T015559Z
UID:10003642-1774533600-1774533600@www.knoxcountymastergardener.org
SUMMARY:SB-Weeds
DESCRIPTION:Speakers Bureau Public Talk\nWEEDS? WHAT WEEDS? (Will not be recorded) \nPresented by Lynn Carlson and Jean Hess \nGot plants popping up where you don’t want them? Lynn Carlson and Jean Hess will share helpful tips for identifying and managing those pesky “plants-in-the-wrong-place” that may already be making an appearance in your garden. Join us! \n  \nThursday\, March 26\, 2026\, at 2:00 p.m. \nKarns Senior Center\, 8042 Oak Ridge Highway\, Knoxville\, TN 37931 \nFree and open to the public.
URL:https://www.knoxcountymastergardener.org/event/sb-weeds/
LOCATION:Karns Senior Center\, 8042 Oak Ridge Hwy\, Knoxville\, TN\, 37931
CATEGORIES:Public Educational Events
ATTACH;FMTTYPE=image/jpeg:https://www.knoxcountymastergardener.org/wp-content/uploads/2026/02/HVES-PullingWeeds.jpg
END:VEVENT
BEGIN:VEVENT
DTSTART;TZID=America/New_York:20260328T100000
DTEND;TZID=America/New_York:20260328T130000
DTSTAMP:20260423T234421
CREATED:20260110T003905Z
LAST-MODIFIED:20260110T003905Z
UID:10003490-1774692000-1774702800@www.knoxcountymastergardener.org
SUMMARY:Pavilion Winter Market
DESCRIPTION:KCMG Ask a Master Gardener Table\nat Pavilion Winter Farmers Market\nEvery 2nd and 4th Saturday\, 10 am – 1 pm\n January 10 – April 12\, 2026\nA team of gardeners will be available to answer your gardening questions and discuss gardening topics of interest. Please stop by and join us for a chat. \nhttps://www.facebook.com/share/1HnerdcQxu/
URL:https://www.knoxcountymastergardener.org/event/pavilion-winter-market-2/2026-03-28/
LOCATION:Harden Valley Event Center\, 2620 Willow Point Way\, Knoxville\, TN\, 37931\, United States
CATEGORIES:Public Educational Events
ATTACH;FMTTYPE=image/jpeg:https://www.knoxcountymastergardener.org/wp-content/uploads/2024/06/farmers-market-placeholder.jpg
END:VEVENT
BEGIN:VEVENT
DTSTART;TZID=America/New_York:20260328T103000
DTEND;TZID=America/New_York:20260328T103000
DTSTAMP:20260423T234421
CREATED:20260301T015009Z
LAST-MODIFIED:20260301T015113Z
UID:10003643-1774693800-1774693800@www.knoxcountymastergardener.org
SUMMARY:SB-Weeds
DESCRIPTION:Speakers Bureau Public Talk\nWEEDS? WHAT WEEDS? (Will not be recorded) \nPresented by Lynn Carlson and Jean Hess \nGot plants popping up where you don’t want them? Lynn Carlson and Jean Hess will share helpful tips for identifying and managing those pesky “plants-in-the-wrong-place” that may already be making an appearance in your garden. Join us! \nSaturday\, March 28\, 2026\, at 10:30 a.m. \nBearden Library\, 100 Golf Club Road\, Knoxville\, TN 37919 \nFree and open to the public.
URL:https://www.knoxcountymastergardener.org/event/sb-weeds-2/
LOCATION:Bearden Library\, 100 Golf Club Road\, Knoxville\, TN\, 37919
CATEGORIES:Public Educational Events
ATTACH;FMTTYPE=image/jpeg:https://www.knoxcountymastergardener.org/wp-content/uploads/2026/02/HVES-PullingWeeds.jpg
END:VEVENT
END:VCALENDAR